Workbook
Name PB_DATE_FILTER_START: #REF!
Name PB_DATE_FILTER_END: #REF!

Sheet Data - Child
A1: id | B1: date_survey | C1: district | D1: age | E1: sex | F1: vaccination_card_present | G1: vaccination_penta | H1: vaccination_measles | I1: oedemas_surveyor | J1: oedemas_supervisor | K1: muac_surveyor | L1: muac_supervisor | M1: mother_id | N1: surveyor_id | O1: dob | P1: age_group | Q1: sex_clean | R1: oedema_correct | S1: muac_correct | T1: age_mother
A2: 8770b164-804e-4272-8ddb-4946abf25703 | B2: 44243 | C2: la_pampa | D2: 9 | E2: 2 | F2: yes | G2: yes | H2: yes | I2: no | J2: no | K2: 130 | L2: 131 | M2: 6a879563-2a72-404f-9570-70c8c2db0721 | N2: lionel | O2: =IF(D2<>"---", DATE(YEAR(B2), MONTH(B2) - D2, DAY(B2)), "---") -> 43967 | P2: =IF(D2 <= 12, "0_12", IF(D2 >= 25, "25+", "13_25")) -> 0_12 | Q2: =IF(E2=2, "f", IF(E2 = 1, "m", "---")) -> f | R2: =IF(J2 <> "---", I2=J2, "---") -> TRUE | S2: =IF(L2 <> "---", ABS(K2-L2) <= 2, "---") -> TRUE | T2: =VLOOKUP(M2, 'Data - Mother'!$A:$C, 3, FALSE) -> 28
A3: d16d73b2-8ad0-40b9-a2b7-722cb7b7f740 | B3: 44243 | C3: la_pampa | D3: 24 | E3: 1 | F3: yes | G3: yes | H3: yes | I3: no | J3: yes | K3: 147 | L3: 148 | M3: 1fb76b7d-56af-424e-841c-fdfd00ce697c | N3: lionel | O3: =IF(D3<>"---", DATE(YEAR(B3), MONTH(B3) - D3, DAY(B3)), "---") -> 43512 | P3: =IF(D3 <= 12, "0_12", IF(D3 >= 25, "25+", "13_25")) -> 13_25 | Q3: =IF(E3=2, "f", IF(E3 = 1, "m", "---")) -> m | R3: =IF(J3 <> "---", I3=J3, "---") -> FALSE | S3: =IF(L3 <> "---", ABS(K3-L3) <= 2, "---") -> TRUE | T3: =VLOOKUP(M3, 'Data - Mother'!$A:$C, 3, FALSE) -> 27
A4: a13a3713-abd2-4f84-8f0e-59ba23e998c6 | B4: 44243 | C4: misiones | D4: 24 | E4: 2 | F4: yes | G4: yes | H4: yes | I4: no | J4: no | K4: 178 | L4: --- | M4: 3f2e004e-0459-46c8-b0fe-f1a9f7071e81 | N4: diego | O4: =IF(D4<>"---", DATE(YEAR(B4), MONTH(B4) - D4, DAY(B4)), "---") -> 43512 | P4: =IF(D4 <= 12, "0_12", IF(D4 >= 25, "25+", "13_25")) -> 13_25 | Q4: =IF(E4=2, "f", IF(E4 = 1, "m", "---")) -> f | R4: =IF(J4 <> "---", I4=J4, "---") -> TRUE | S4: =IF(L4 <> "---", ABS(K4-L4) <= 2, "---") -> --- | T4: =VLOOKUP(M4, 'Data - Mother'!$A:$C, 3, FALSE) -> 38
A5: d38d9c34-5516-4780-bd6f-7256357c887d | B5: 44243 | C5: la_pampa | D5: 36 | E5: 2 | F5: yes | G5: yes | H5: yes | I5: no | J5: yes | K5: 142 | L5: 142 | M5: 5420766e-af52-4416-a869-010e24d20d27 | N5: lionel | O5: =IF(D5<>"---", DATE(YEAR(B5), MONTH(B5) - D5, DAY(B5)), "---") -> 43147 | P5: =IF(D5 <= 12, "0_12", IF(D5 >= 25, "25+", "13_25")) -> 25+ | Q5: =IF(E5=2, "f", IF(E5 = 1, "m", "---")) -> f | R5: =IF(J5 <> "---", I5=J5, "---") -> FALSE | S5: =IF(L5 <> "---", ABS(K5-L5) <= 2, "---") -> TRUE | T5: =VLOOKUP(M5, 'Data - Mother'!$A:$C, 3, FALSE) -> 21
A6: e5de3591-aafa-45be-9041-3e7e8d88a15b | B6: 44243 | C6: mendoza | D6: 37 | E6: 2 | F6: yes | G6: yes | H6: yes | I6: no | J6: yes | K6: 151 | L6: 151 | M6: b274c467-222c-4d47-82fb-43b5a42b0a66 | N6: alfredo | O6: =IF(D6<>"---", DATE(YEAR(B6), MONTH(B6) - D6, DAY(B6)), "---") -> 43116 | P6: =IF(D6 <= 12, "0_12", IF(D6 >= 25, "25+", "13_25")) -> 25+ | Q6: =IF(E6=2, "f", IF(E6 = 1, "m", "---")) -> f | R6: =IF(J6 <> "---", I6=J6, "---") -> FALSE | S6: =IF(L6 <> "---", ABS(K6-L6) <= 2, "---") -> TRUE | T6: =VLOOKUP(M6, 'Data - Mother'!$A:$C, 3, FALSE) -> 30
A7: 84c88062-6d56-41dc-b8d8-d73083accbf9 | B7: 44243 | C7: misiones | D7: 28 | E7: 1 | F7: yes | G7: yes | H7: yes | I7: no | J7: no | K7: 158 | L7: --- | M7: 091b6dea-7bb5-4f3f-b8e0-34c8ef88ef5a | N7: diego | O7: =IF(D7<>"---", DATE(YEAR(B7), MONTH(B7) - D7, DAY(B7)), "---") -> 43389 | P7: =IF(D7 <= 12, "0_12", IF(D7 >= 25, "25+", "13_25")) -> 25+ | Q7: =IF(E7=2, "f", IF(E7 = 1, "m", "---")) -> m | R7: =IF(J7 <> "---", I7=J7, "---") -> TRUE | S7: =IF(L7 <> "---", ABS(K7-L7) <= 2, "---") -> --- | T7: =VLOOKUP(M7, 'Data - Mother'!$A:$C, 3, FALSE) -> 43
A8: 8e3eccad-6c05-4d28-90f5-c420399b5fc0 | B8: 44243 | C8: misiones | D8: 26 | E8: 1 | F8: yes | G8: yes | H8: yes | I8: no | J8: no | K8: 156 | L8: --- | M8: adf3bfcb-585f-4f63-96c8-f47b6fa14364 | N8: diego | O8: =IF(D8<>"---", DATE(YEAR(B8), MONTH(B8) - D8, DAY(B8)), "---") -> 43450 | P8: =IF(D8 <= 12, "0_12", IF(D8 >= 25, "25+", "13_25")) -> 25+ | Q8: =IF(E8=2, "f", IF(E8 = 1, "m", "---")) -> m | R8: =IF(J8 <> "---", I8=J8, "---") -> TRUE | S8: =IF(L8 <> "---", ABS(K8-L8) <= 2, "---") -> --- | T8: =VLOOKUP(M8, 'Data - Mother'!$A:$C, 3, FALSE) -> 29
A9: 798af79c-cbaf-4bbd-a52b-3674215c4097 | B9: 44242 | C9: mendoza | D9: 14 | E9: 2 | F9: no | G9: --- | H9: --- | I9: no | J9: yes | K9: 144 | L9: 144 | M9: bbecb0e8-e3f9-4609-9dd7-dd5ac2cf80c6 | N9: alfredo | O9: =IF(D9<>"---", DATE(YEAR(B9), MONTH(B9) - D9, DAY(B9)), "---") -> 43814 | P9: =IF(D9 <= 12, "0_12", IF(D9 >= 25, "25+", "13_25")) -> 13_25 | Q9: =IF(E9=2, "f", IF(E9 = 1, "m", "---")) -> f | R9: =IF(J9 <> "---", I9=J9, "---") -> FALSE | S9: =IF(L9 <> "---", ABS(K9-L9) <= 2, "---") -> TRUE | T9: =VLOOKUP(M9, 'Data - Mother'!$A:$C, 3, FALSE) -> 23
A10: 0868fa2e-8733-4460-b73a-2fd40fed4827 | B10: 44242 | C10: mendoza | D10: 48 | E10: 2 | F10: yes | G10: yes | H10: yes | I10: no | J10: yes | K10: 150 | L10: 150 | M10: c08fad1b-39e0-4b4b-8064-6b6fc5977f5a | N10: alfredo | O10: =IF(D10<>"---", DATE(YEAR(B10), MONTH(B10) - D10, DAY(B10)), "---") -> 42781 | P10: =IF(D10 <= 12, "0_12", IF(D10 >= 25, "25+", "13_25")) -> 25+ | Q10: =IF(E10=2, "f", IF(E10 = 1, "m", "---")) -> f | R10: =IF(J10 <> "---", I10=J10, "---") -> FALSE | S10: =IF(L10 <> "---", ABS(K10-L10) <= 2, "---") -> TRUE | T10: =VLOOKUP(M10, 'Data - Mother'!$A:$C, 3, FALSE) -> 26
A11: 040913c2-bdf7-4b3e-892a-8a20c44e6b50 | B11: 44242 | C11: mendoza | D11: 38 | E11: 1 | F11: yes | G11: yes | H11: yes | I11: no | J11: yes | K11: 164 | L11: 161 | M11: 09e43130-27ef-47bc-aaa5-9c43220c3634 | N11: alfredo | O11: =IF(D11<>"---", DATE(YEAR(B11), MONTH(B11) - D11, DAY(B11)), "---") -> 43084 | P11: =IF(D11 <= 12, "0_12", IF(D11 >= 25, "25+", "13_25")) -> 25+ | Q11: =IF(E11=2, "f", IF(E11 = 1, "m", "---")) -> m | R11: =IF(J11 <> "---", I11=J11, "---") -> FALSE | S11: =IF(L11 <> "---", ABS(K11-L11) <= 2, "---") -> FALSE | T11: =VLOOKUP(M11, 'Data - Mother'!$A:$C, 3, FALSE) -> 25
A12: 701b908c-4f85-4242-8138-c179245599f9 | B12: 44242 | C12: corrientes | D12: 19 | E12: 1 | F12: yes | G12: yes | H12: yes | I12: no | J12: no | K12: 140 | L12: --- | M12: 40523a40-0592-4ae1-8a5b-08b38b372135 | N12: mario | O12: =IF(D12<>"---", DATE(YEAR(B12), MONTH(B12) - D12, DAY(B12)), "---") -> 43661 | P12: =IF(D12 <= 12, "0_12", IF(D12 >= 25, "25+", "13_25")) -> 13_25 | Q12: =IF(E12=2, "f", IF(E12 = 1, "m", "---")) -> m | R12: =IF(J12 <> "---", I12=J12, "---") -> TRUE | S12: =IF(L12 <> "---", ABS(K12-L12) <= 2, "---") -> --- | T12: =VLOOKUP(M12, 'Data - Mother'!$A:$C, 3, FALSE) -> 26
A13: 035d3e78-f3aa-428b-848a-de09409f80fb | B13: 44242 | C13: jujuy | D13: 38 | E13: 2 | F13: yes | G13: yes | H13: yes | I13: no | J13: yes | K13: 148 | L13: 148 | M13: b2dacc52-4256-4c07-aa7c-c4e2d54fada7 | N13: daniel | O13: =IF(D13<>"---", DATE(YEAR(B13), MONTH(B13) - D13, DAY(B13)), "---") -> 43084 | P13: =IF(D13 <= 12, "0_12", IF(D13 >= 25, "25+", "13_25")) -> 25+ | Q13: =IF(E13=2, "f", IF(E13 = 1, "m", "---")) -> f | R13: =IF(J13 <> "---", I13=J13, "---") -> FALSE | S13: =IF(L13 <> "---", ABS(K13-L13) <= 2, "---") -> TRUE | T13: =VLOOKUP(M13, 'Data - Mother'!$A:$C, 3, FALSE) -> 38
A14: 02cb4dbf-276c-46a6-91ca-7728ec643131 | B14: 44242 | C14: chaco | D14: 14 | E14: 1 | F14: no | G14: --- | H14: --- | I14: no | J14: yes | K14: 144 | L14: 144 | M14: 4d73c94b-28da-4661-a42f-13d66e82cd59 | N14: claudio | O14: =IF(D14<>"---", DATE(YEAR(B14), MONTH(B14) - D14, DAY(B14)), "---") -> 43814 | P14: =IF(D14 <= 12, "0_12", IF(D14 >= 25, "25+", "13_25")) -> 13_25 | Q14: =IF(E14=2, "f", IF(E14 = 1, "m", "---")) -> m | R14: =IF(J14 <> "---", I14=J14, "---") -> FALSE | S14: =IF(L14 <> "---", ABS(K14-L14) <= 2, "---") -> TRUE | T14: =VLOOKUP(M14, 'Data - Mother'!$A:$C, 3, FALSE) -> 28
A15: 9686e921-209c-42ac-9921-711b6fa71fa8 | B15: 44242 | C15: chaco | D15: 6 | E15: 2 | F15: yes | G15: yes | H15: no | I15: no | J15: no | K15: 122 | L15: --- | M15: 6c5091b8-5836-4f9c-8552-82443608b4de | N15: claudio | O15: =IF(D15<>"---", DATE(YEAR(B15), MONTH(B15) - D15, DAY(B15)), "---") -> 44058 | P15: =IF(D15 <= 12, "0_12", IF(D15 >= 25, "25+", "13_25")) -> 0_12 | Q15: =IF(E15=2, "f", IF(E15 = 1, "m", "---")) -> f | R15: =IF(J15 <> "---", I15=J15, "---") -> TRUE | S15: =IF(L15 <> "---", ABS(K15-L15) <= 2, "---") -> --- | T15: =VLOOKUP(M15, 'Data - Mother'!$A:$C, 3, FALSE) -> 30
A16: dfbd8c18-b427-4db4-8968-bed173dc38f6 | B16: 44242 | C16: formosa | D16: 31 | E16: 1 | F16: no | G16: --- | H16: --- | I16: no | J16: no | K16: 139 | L16: --- | M16: f431303f-81da-4d35-a2c7-474bb4bb3d3b | N16: gabriel | O16: =IF(D16<>"---", DATE(YEAR(B16), MONTH(B16) - D16, DAY(B16)), "---") -> 43296 | P16: =IF(D16 <= 12, "0_12", IF(D16 >= 25, "25+", "13_25")) -> 25+ | Q16: =IF(E16=2, "f", IF(E16 = 1, "m", "---")) -> m | R16: =IF(J16 <> "---", I16=J16, "---") -> TRUE | S16: =IF(L16 <> "---", ABS(K16-L16) <= 2, "---") -> --- | T16: =VLOOKUP(M16, 'Data - Mother'!$A:$C, 3, FALSE) -> 22
A17: d3759b99-eddf-4253-a216-20a612ca58e5 | B17: 44242 | C17: formosa | D17: 36 | E17: 1 | F17: no | G17: --- | H17: --- | I17: no | J17: no | K17: 133 | L17: --- | M17: f431303f-81da-4d35-a2c7-474bb4bb3d3b | N17: gabriel | O17: =IF(D17<>"---", DATE(YEAR(B17), MONTH(B17) - D17, DAY(B17)), "---") -> 43146 | P17: =IF(D17 <= 12, "0_12", IF(D17 >= 25, "25+", "13_25")) -> 25+ | Q17: =IF(E17=2, "f", IF(E17 = 1, "m", "---")) -> m | R17: =IF(J17 <> "---", I17=J17, "---") -> TRUE | S17: =IF(L17 <> "---", ABS(K17-L17) <= 2, "---") -> --- | T17: =VLOOKUP(M17, 'Data - Mother'!$A:$C, 3, FALSE) -> 22
A18: 37a1adbc-98d9-492a-8a39-e33c8a2804c4 | B18: 44242 | C18: la_rioja | D18: 48 | E18: 1 | F18: no | G18: --- | H18: --- | I18: no | J18: yes | K18: 163 | L18: 163 | M18: 79d446f9-a01c-4c67-b200-9abc1d0bc582 | N18: hernan | O18: =IF(D18<>"---", DATE(YEAR(B18), MONTH(B18) - D18, DAY(B18)), "---") -> 42781 | P18: =IF(D18 <= 12, "0_12", IF(D18 >= 25, "25+", "13_25")) -> 25+ | Q18: =IF(E18=2, "f", IF(E18 = 1, "m", "---")) -> m | R18: =IF(J18 <> "---", I18=J18, "---") -> FALSE | S18: =IF(L18 <> "---", ABS(K18-L18) <= 2, "---") -> TRUE | T18: =VLOOKUP(M18, 'Data - Mother'!$A:$C, 3, FALSE) -> 64
A19: 48f50717-2d3d-441e-a276-855e4a8aa418 | B19: 44242 | C19: entre_rios | D19: 48 | E19: 1 | F19: no | G19: --- | H19: --- | I19: no | J19: yes | K19: 169 | L19: 168 | M19: 8a840e5c-5250-410b-a2d9-1902f57befe0 | N19: javier | O19: =IF(D19<>"---", DATE(YEAR(B19), MONTH(B19) - D19, DAY(B19)), "---") -> 42781 | P19: =IF(D19 <= 12, "0_12", IF(D19 >= 25, "25+", "13_25")) -> 25+ | Q19: =IF(E19=2, "f", IF(E19 = 1, "m", "---")) -> m | R19: =IF(J19 <> "---", I19=J19, "---") -> FALSE | S19: =IF(L19 <> "---", ABS(K19-L19) <= 2, "---") -> TRUE | T19: =VLOOKUP(M19, 'Data - Mother'!$A:$C, 3, FALSE) -> 25
A20: 42bf66e0-1fec-41c0-9695-e3bbb251cc22 | B20: 44242 | C20: jujuy | D20: 20 | E20: 1 | F20: yes | G20: yes | H20: yes | I20: no | J20: no | K20: 130 | L20: --- | M20: eb69c8a0-15a3-4000-aec0-dba519155878 | N20: daniel | O20: =IF(D20<>"---", DATE(YEAR(B20), MONTH(B20) - D20, DAY(B20)), "---") -> 43631 | P20: =IF(D20 <= 12, "0_12", IF(D20 >= 25, "25+", "13_25")) -> 13_25 | Q20: =IF(E20=2, "f", IF(E20 = 1, "m", "---")) -> m | R20: =IF(J20 <> "---", I20=J20, "---") -> TRUE | S20: =IF(L20 <> "---", ABS(K20-L20) <= 2, "---") -> --- | T20: =VLOOKUP(M20, 'Data - Mother'!$A:$C, 3, FALSE) -> 22
A21: 318650a6-bda3-4a9a-b8a3-7e5849e4f5dd | B21: 44242 | C21: la_rioja | D21: 57 | E21: 2 | F21: no | G21: --- | H21: --- | I21: no | J21: yes | K21: 164 | L21: 164 | M21: d389e1fc-1e57-4383-b282-a926e273596a | N21: sergio | O21: =IF(D21<>"---", DATE(YEAR(B21), MONTH(B21) - D21, DAY(B21)), "---") -> 42505 | P21: =IF(D21 <= 12, "0_12", IF(D21 >= 25, "25+", "13_25")) -> 25+ | Q21: =IF(E21=2, "f", IF(E21 = 1, "m", "---")) -> f | R21: =IF(J21 <> "---", I21=J21, "---") -> FALSE | S21: =IF(L21 <> "---", ABS(K21-L21) <= 2, "---") -> TRUE | T21: =VLOOKUP(M21, 'Data - Mother'!$A:$C, 3, FALSE) -> 22
A22: 7298e3b1-b889-4412-8365-008c00b39216 | B22: 44242 | C22: formosa | D22: 47 | E22: 2 | F22: yes | G22: yes | H22: yes | I22: no | J22: no | K22: 153 | L22: --- | M22: 59a47164-4025-41e5-922b-6b2b7376525c | N22: gabriel | O22: =IF(D22<>"---", DATE(YEAR(B22), MONTH(B22) - D22, DAY(B22)), "---") -> 42809 | P22: =IF(D22 <= 12, "0_12", IF(D22 >= 25, "25+", "13_25")) -> 25+ | Q22: =IF(E22=2, "f", IF(E22 = 1, "m", "---")) -> f | R22: =IF(J22 <> "---", I22=J22, "---") -> TRUE | S22: =IF(L22 <> "---", ABS(K22-L22) <= 2, "---") -> --- | T22: =VLOOKUP(M22, 'Data - Mother'!$A:$C, 3, FALSE) -> 36
A23: 946fb392-b61c-46c3-ab63-060eca6d246b | B23: 44242 | C23: la_rioja | D23: 43 | E23: 1 | F23: yes | G23: yes | H23: yes | I23: no | J23: yes | K23: 152 | L23: 151 | M23: d7e2fa0a-f669-47cb-b791-f98a6e7cfe94 | N23: zinedine | O23: =IF(D23<>"---", DATE(YEAR(B23), MONTH(B23) - D23, DAY(B23)), "---") -> 42931 | P23: =IF(D23 <= 12, "0_12", IF(D23 >= 25, "25+", "13_25")) -> 25+ | Q23: =IF(E23=2, "f", IF(E23 = 1, "m", "---")) -> m | R23: =IF(J23 <> "---", I23=J23, "---") -> FALSE | S23: =IF(L23 <> "---", ABS(K23-L23) <= 2, "---") -> TRUE | T23: =VLOOKUP(M23, 'Data - Mother'!$A:$C, 3, FALSE) -> 20
A24: 54bdedf6-296d-41e5-b6f2-967a12e82066 | B24: 44242 | C24: formosa | D24: 20 | E24: 1 | F24: no | G24: --- | H24: --- | I24: no | J24: no | K24: 152 | L24: --- | M24: b5da9a28-1af1-4311-a263-93db683c7f13 | N24: gabriel | O24: =IF(D24<>"---", DATE(YEAR(B24), MONTH(B24) - D24, DAY(B24)), "---") -> 43631 | P24: =IF(D24 <= 12, "0_12", IF(D24 >= 25, "25+", "13_25")) -> 13_25 | Q24: =IF(E24=2, "f", IF(E24 = 1, "m", "---")) -> m | R24: =IF(J24 <> "---", I24=J24, "---") -> TRUE | S24: =IF(L24 <> "---", ABS(K24-L24) <= 2, "---") -> --- | T24: =VLOOKUP(M24, 'Data - Mother'!$A:$C, 3, FALSE) -> 30
A25: 3b094824-9cca-4ec8-9d96-17dd8ab6f148 | B25: 44242 | C25: misiones | D25: 24 | E25: 1 | F25: yes | G25: yes | H25: yes | I25: no | J25: yes | K25: 147 | L25: 146 | M25: 8155170d-6f75-49a3-9d7b-b3bf53533e96 | N25: diego | O25: =IF(D25<>"---", DATE(YEAR(B25), MONTH(B25) - D25, DAY(B25)), "---") -> 43511 | P25: =IF(D25 <= 12, "0_12", IF(D25 >= 25, "25+", "13_25")) -> 13_25 | Q25: =IF(E25=2, "f", IF(E25 = 1, "m", "---")) -> m | R25: =IF(J25 <> "---", I25=J25, "---") -> FALSE | S25: =IF(L25 <> "---", ABS(K25-L25) <= 2, "---") -> TRUE | T25: =VLOOKUP(M25, 'Data - Mother'!$A:$C, 3, FALSE) -> 37
A26: 601dccfb-fb94-4023-93cd-f575804748fa | B26: 44242 | C26: formosa | D26: 36 | E26: 1 | F26: no | G26: --- | H26: --- | I26: no | J26: no | K26: 156 | L26: --- | M26: b5da9a28-1af1-4311-a263-93db683c7f13 | N26: gabriel | O26: =IF(D26<>"---", DATE(YEAR(B26), MONTH(B26) - D26, DAY(B26)), "---") -> 43146 | P26: =IF(D26 <= 12, "0_12", IF(D26 >= 25, "25+", "13_25")) -> 25+ | Q26: =IF(E26=2, "f", IF(E26 = 1, "m", "---")) -> m | R26: =IF(J26 <> "---", I26=J26, "---") -> TRUE | S26: =IF(L26 <> "---", ABS(K26-L26) <= 2, "---") -> --- | T26: =VLOOKUP(M26, 'Data - Mother'!$A:$C, 3, FALSE) -> 30
A27: 8c9141f8-8aee-47d8-bb89-56f9a21c0c1d | B27: 44242 | C27: misiones | D27: 9 | E27: 1 | F27: yes | G27: yes | H27: yes | I27: no | J27: no | K27: 140 | L27: --- | M27: 1ba3c1cd-1140-476e-a8b5-9a5c2c7dec10 | N27: diego | O27: =IF(D27<>"---", DATE(YEAR(B27), MONTH(B27) - D27, DAY(B27)), "---") -> 43966 | P27: =IF(D27 <= 12, "0_12", IF(D27 >= 25, "25+", "13_25")) -> 0_12 | Q27: =IF(E27=2, "f", IF(E27 = 1, "m", "---")) -> m | R27: =IF(J27 <> "---", I27=J27, "---") -> TRUE | S27: =IF(L27 <> "---", ABS(K27-L27) <= 2, "---") -> --- | T27: =VLOOKUP(M27, 'Data - Mother'!$A:$C, 3, FALSE) -> 25
A28: a44bb297-a90a-4900-9298-af72ccbf5833 | B28: 44242 | C28: formosa | D28: 8 | E28: 2 | F28: no | G28: --- | H28: --- | I28: no | J28: yes | K28: 128 | L28: 129 | M28: 046834f6-4a87-4cc1-b5c5-15bff8b8dab2 | N28: fabien | O28: =IF(D28<>"---", DATE(YEAR(B28), MONTH(B28) - D28, DAY(B28)), "---") -> 43997 | P28: =IF(D28 <= 12, "0_12", IF(D28 >= 25, "25+", "13_25")) -> 0_12 | Q28: =IF(E28=2, "f", IF(E28 = 1, "m", "---")) -> f | R28: =IF(J28 <> "---", I28=J28, "---") -> FALSE | S28: =IF(L28 <> "---", ABS(K28-L28) <= 2, "---") -> TRUE | T28: =VLOOKUP(M28, 'Data - Mother'!$A:$C, 3, FALSE) -> 25
A29: ae3bc50e-9268-445a-9130-2e9ebe210408 | B29: 44242 | C29: jujuy | D29: 38 | E29: 1 | F29: no | G29: --- | H29: --- | I29: no | J29: no | K29: 151 | L29: --- | M29: dc41b699-a034-4038-b92a-046ee1350cd3 | N29: daniel | O29: =IF(D29<>"---", DATE(YEAR(B29), MONTH(B29) - D29, DAY(B29)), "---") -> 43084 | P29: =IF(D29 <= 12, "0_12", IF(D29 >= 25, "25+", "13_25")) -> 25+ | Q29: =IF(E29=2, "f", IF(E29 = 1, "m", "---")) -> m | R29: =IF(J29 <> "---", I29=J29, "---") -> TRUE | S29: =IF(L29 <> "---", ABS(K29-L29) <= 2, "---") -> --- | T29: =VLOOKUP(M29, 'Data - Mother'!$A:$C, 3, FALSE) -> 35
A30: 5d7f0230-b9ff-403a-b4ce-f6f3a4724273 | B30: 44242 | C30: chaco | D30: 16 | E30: 2 | F30: yes | G30: yes | H30: yes | I30: no | J30: yes | K30: 135 | L30: 134 | M30: 69212b43-98bf-48e6-8a74-0aabdf7975a7 | N30: claudio | O30: =IF(D30<>"---", DATE(YEAR(B30), MONTH(B30) - D30, DAY(B30)), "---") -> 43753 | P30: =IF(D30 <= 12, "0_12", IF(D30 >= 25, "25+", "13_25")) -> 13_25 | Q30: =IF(E30=2, "f", IF(E30 = 1, "m", "---")) -> f | R30: =IF(J30 <> "---", I30=J30, "---") -> FALSE | S30: =IF(L30 <> "---", ABS(K30-L30) <= 2, "---") -> TRUE | T30: =VLOOKUP(M30, 'Data - Mother'!$A:$C, 3, FALSE) -> 25
A31: aabd0c44-0d21-4dce-a0e7-ac3ae2b8f6f6 | B31: 44242 | C31: la_rioja | D31: 16 | E31: 1 | F31: no | G31: --- | H31: --- | I31: no | J31: yes | K31: 143 | L31: 143 | M31: ce426a92-ff71-4e1e-a22c-42bba357e888 | N31: sergio | O31: =IF(D31<>"---", DATE(YEAR(B31), MONTH(B31) - D31, DAY(B31)), "---") -> 43753 | P31: =IF(D31 <= 12, "0_12", IF(D31 >= 25, "25+", "13_25")) -> 13_25 | Q31: =IF(E31=2, "f", IF(E31 = 1, "m", "---")) -> m | R31: =IF(J31 <> "---", I31=J31, "---") -> FALSE | S31: =IF(L31 <> "---", ABS(K31-L31) <= 2, "---") -> TRUE | T31: =VLOOKUP(M31, 'Data - Mother'!$A:$C, 3, FALSE) -> 22
A32: 37f99516-4771-45d3-aeee-cdc1717af847 | B32: 44242 | C32: la_rioja | D32: 28 | E32: 1 | F32: no | G32: --- | H32: --- | I32: no | J32: yes | K32: 172 | L32: 172 | M32: b808d1af-b8b7-4271-9299-5979d077f65a | N32: sergio | O32: =IF(D32<>"---", DATE(YEAR(B32), MONTH(B32) - D32, DAY(B32)), "---") -> 43388 | P32: =IF(D32 <= 12, "0_12", IF(D32 >= 25, "25+", "13_25")) -> 25+ | Q32: =IF(E32=2, "f", IF(E32 = 1, "m", "---")) -> m | R32: =IF(J32 <> "---", I32=J32, "---") -> FALSE | S32: =IF(L32 <> "---", ABS(K32-L32) <= 2, "---") -> TRUE | T32: =VLOOKUP(M32, 'Data - Mother'!$A:$C, 3, FALSE) -> 22
A33: f464024d-78cc-49f1-9bd5-e06f03c5ad8a | B33: 44242 | C33: mendoza | D33: 12 | E33: 1 | F33: no | G33: --- | H33: --- | I33: no | J33: yes | K33: 157 | L33: 157 | M33: 4abad4df-5253-4c23-93bb-b6c36e6f7e2a | N33: alfredo | O33: =IF(D33<>"---", DATE(YEAR(B33), MONTH(B33) - D33, DAY(B33)), "---") -> 43876 | P33: =IF(D33 <= 12, "0_12", IF(D33 >= 25, "25+", "13_25")) -> 0_12 | Q33: =IF(E33=2, "f", IF(E33 = 1, "m", "---")) -> m | R33: =IF(J33 <> "---", I33=J33, "---") -> FALSE | S33: =IF(L33 <> "---", ABS(K33-L33) <= 2, "---") -> TRUE | T33: =VLOOKUP(M33, 'Data - Mother'!$A:$C, 3, FALSE) -> 27
A34: aaae2d21-67cc-460d-97d3-e4f144f42031 | B34: 44242 | C34: corrientes | D34: 31 | E34: 1 | F34: no | G34: --- | H34: --- | I34: no | J34: yes | K34: 150 | L34: 150 | M34: 84b5b4ad-ceac-4a37-9080-e80cf0912993 | N34: mario | O34: =IF(D34<>"---", DATE(YEAR(B34), MONTH(B34) - D34, DAY(B34)), "---") -> 43296 | P34: =IF(D34 <= 12, "0_12", IF(D34 >= 25, "25+", "13_25")) -> 25+ | Q34: =IF(E34=2, "f", IF(E34 = 1, "m", "---")) -> m | R34: =IF(J34 <> "---", I34=J34, "---") -> FALSE | S34: =IF(L34 <> "---", ABS(K34-L34) <= 2, "---") -> TRUE | T34: =VLOOKUP(M34, 'Data - Mother'!$A:$C, 3, FALSE) -> 22
A35: 5ed8722d-9841-4cc3-9187-be0a4521c893 | B35: 44242 | C35: chaco | D35: 9 | E35: 1 | F35: yes | G35: yes | H35: yes | I35: no | J35: no | K35: 135 | L35: --- | M35: 455b0d5c-f651-4144-ada6-299e6e8da021 | N35: claudio | O35: =IF(D35<>"---", DATE(YEAR(B35), MONTH(B35) - D35, DAY(B35)), "---") -> 43966 | P35: =IF(D35 <= 12, "0_12", IF(D35 >= 25, "25+", "13_25")) -> 0_12 | Q35: =IF(E35=2, "f", IF(E35 = 1, "m", "---")) -> m | R35: =IF(J35 <> "---", I35=J35, "---") -> TRUE | S35: =IF(L35 <> "---", ABS(K35-L35) <= 2, "---") -> --- | T35: =VLOOKUP(M35, 'Data - Mother'!$A:$C, 3, FALSE) -> 18
A36: 8e59c7e8-e8cb-4108-9466-aa8e9288b960 | B36: 44242 | C36: cordoba | D36: 42 | E36: 2 | F36: yes | G36: yes | H36: yes | I36: no | J36: no | K36: 145 | L36: --- | M36: f711662e-5187-4b77-a2a5-25a1a4e91d46 | N36: emmanuel | O36: =IF(D36<>"---", DATE(YEAR(B36), MONTH(B36) - D36, DAY(B36)), "---") -> 42962 | P36: =IF(D36 <= 12, "0_12", IF(D36 >= 25, "25+", "13_25")) -> 25+ | Q36: =IF(E36=2, "f", IF(E36 = 1, "m", "---")) -> f | R36: =IF(J36 <> "---", I36=J36, "---") -> TRUE | S36: =IF(L36 <> "---", ABS(K36-L36) <= 2, "---") -> --- | T36: =VLOOKUP(M36, 'Data - Mother'!$A:$C, 3, FALSE) -> 27
A37: 530cf329-8e5b-4f2f-a2c9-4790c96ab929 | B37: 44242 | C37: cordoba | D37: 48 | E37: 1 | F37: no | G37: --- | H37: --- | I37: no | J37: no | K37: 162 | L37: --- | M37: 14ea272c-6721-4d14-9bc8-206a98427bde | N37: emmanuel | O37: =IF(D37<>"---", DATE(YEAR(B37), MONTH(B37) - D37, DAY(B37)), "---") -> 42781 | P37: =IF(D37 <= 12, "0_12", IF(D37 >= 25, "25+", "13_25")) -> 25+ | Q37: =IF(E37=2, "f", IF(E37 = 1, "m", "---")) -> m | R37: =IF(J37 <> "---", I37=J37, "---") -> TRUE | S37: =IF(L37 <> "---", ABS(K37-L37) <= 2, "---") -> --- | T37: =VLOOKUP(M37, 'Data - Mother'!$A:$C, 3, FALSE) -> 25
A38: 65bc4039-c48a-4984-b5a6-6821cc9e2d57 | B38: 44242 | C38: cordoba | D38: 41 | E38: 1 | F38: no | G38: --- | H38: --- | I38: no | J38: no | K38: 143 | L38: --- | M38: 9a8da569-e1a0-4b60-8c95-e60b9ea8bd56 | N38: emmanuel | O38: =IF(D38<>"---", DATE(YEAR(B38), MONTH(B38) - D38, DAY(B38)), "---") -> 42993 | P38: =IF(D38 <= 12, "0_12", IF(D38 >= 25, "25+", "13_25")) -> 25+ | Q38: =IF(E38=2, "f", IF(E38 = 1, "m", "---")) -> m | R38: =IF(J38 <> "---", I38=J38, "---") -> TRUE | S38: =IF(L38 <> "---", ABS(K38-L38) <= 2, "---") -> --- | T38: =VLOOKUP(M38, 'Data - Mother'!$A:$C, 3, FALSE) -> 38
A39: 87cb044d-af3c-4f45-8e0b-2d94d8ba9098 | B39: 44242 | C39: cordoba | D39: 59 | E39: 2 | F39: yes | G39: yes | H39: yes | I39: no | J39: no | K39: 153 | L39: --- | M39: 17ee802d-25ab-47b1-841d-051e4066b96c | N39: emmanuel | O39: =IF(D39<>"---", DATE(YEAR(B39), MONTH(B39) - D39, DAY(B39)), "---") -> 42444 | P39: =IF(D39 <= 12, "0_12", IF(D39 >= 25, "25+", "13_25")) -> 25+ | Q39: =IF(E39=2, "f", IF(E39 = 1, "m", "---")) -> f | R39: =IF(J39 <> "---", I39=J39, "---") -> TRUE | S39: =IF(L39 <> "---", ABS(K39-L39) <= 2, "---") -> --- | T39: =VLOOKUP(M39, 'Data - Mother'!$A:$C, 3, FALSE) -> 22
A40: ba3060a4-0271-4f64-93b2-e2e19204cdc2 | B40: 44242 | C40: cordoba | D40: 59 | E40: 2 | F40: yes | G40: yes | H40: yes | I40: no | J40: no | K40: 175 | L40: --- | M40: 7b3e0fc2-f278-4f3f-bc32-0ad0ee87df12 | N40: emmanuel | O40: =IF(D40<>"---", DATE(YEAR(B40), MONTH(B40) - D40, DAY(B40)), "---") -> 42444 | P40: =IF(D40 <= 12, "0_12", IF(D40 >= 25, "25+", "13_25")) -> 25+ | Q40: =IF(E40=2, "f", IF(E40 = 1, "m", "---")) -> f | R40: =IF(J40 <> "---", I40=J40, "---") -> TRUE | S40: =IF(L40 <> "---", ABS(K40-L40) <= 2, "---") -> --- | T40: =VLOOKUP(M40, 'Data - Mother'!$A:$C, 3, FALSE) -> 26
...

Sheet Data - Mother
A1: id | B1: date_survey | C1: age | D1: muac_training | E1: muac_tape_present | F1: muac_tape_state | G1: muac_use_frequency | H1: muac_use_frequency_n_answers
A2: 09e0e185-935f-4c43-95a6-16648fbe2a74 | B2: 44243 | C2: 22 | D2: no | E2: --- | F2: --- | G2: --- | H2: =IF(G2 <> "---", LEN(G2) - LEN(SUBSTITUTE(G2, " ", "")) + 1, 0) -> 0
A3: 6a879563-2a72-404f-9570-70c8c2db0721 | B3: 44243 | C3: 28 | D3: no | E3: --- | F3: --- | G3: --- | H3: =IF(G3 <> "---", LEN(G3) - LEN(SUBSTITUTE(G3, " ", "")) + 1, 0) -> 0
A4: 254e7213-959e-4c17-b9c8-2adf4a90b4ad | B4: 44243 | C4: 26 | D4: yes | E4: yes | F4: bad | G4: sometimes | H4: =IF(G4 <> "---", LEN(G4) - LEN(SUBSTITUTE(G4, " ", "")) + 1, 0) -> 1
A5: 4cfeda5d-a038-4473-83a0-55c9591a1698 | B5: 44243 | C5: 21 | D5: no | E5: --- | F5: --- | G5: --- | H5: =IF(G5 <> "---", LEN(G5) - LEN(SUBSTITUTE(G5, " ", "")) + 1, 0) -> 0
A6: a1d03590-3138-4336-95df-1eddc105dd8f | B6: 44243 | C6: 15 | D6: yes | E6: yes | F6: good | G6: every_two_weeks sometimes | H6: =IF(G6 <> "---", LEN(G6) - LEN(SUBSTITUTE(G6, " ", "")) + 1, 0) -> 2
A7: c7261cb0-e825-4ad2-aab2-342396282b2c | B7: 44243 | C7: 18 | D7: yes | E7: no | F7: --- | G7: --- | H7: =IF(G7 <> "---", LEN(G7) - LEN(SUBSTITUTE(G7, " ", "")) + 1, 0) -> 0
A8: d68670ba-97a3-4457-b70f-c36da546714a | B8: 44242 | C8: 28 | D8: yes | E8: yes | F8: good | G8: sometimes | H8: =IF(G8 <> "---", LEN(G8) - LEN(SUBSTITUTE(G8, " ", "")) + 1, 0) -> 1
A9: 09e43130-27ef-47bc-aaa5-9c43220c3634 | B9: 44242 | C9: 25 | D9: yes | E9: yes | F9: good | G9: sometimes | H9: =IF(G9 <> "---", LEN(G9) - LEN(SUBSTITUTE(G9, " ", "")) + 1, 0) -> 1
A10: 4d73c94b-28da-4661-a42f-13d66e82cd59 | B10: 44242 | C10: 28 | D10: yes | E10: yes | F10: good | G10: sometimes | H10: =IF(G10 <> "---", LEN(G10) - LEN(SUBSTITUTE(G10, " ", "")) + 1, 0) -> 1
A11: c83c6de7-a885-4c9f-9b6d-391fef9df02c | B11: 44242 | C11: 29 | D11: yes | E11: yes | F11: good | G11: never | H11: =IF(G11 <> "---", LEN(G11) - LEN(SUBSTITUTE(G11, " ", "")) + 1, 0) -> 1
A12: ccbdb9cc-57a6-467b-abb5-ee4f53d21656 | B12: 44242 | C12: --- | D12: --- | E12: --- | F12: --- | G12: --- | H12: =IF(G12 <> "---", LEN(G12) - LEN(SUBSTITUTE(G12, " ", "")) + 1, 0) -> 0
A13: e54c6216-5a8b-4e47-8570-cf1bc734ca11 | B13: 44242 | C13: 30 | D13: no | E13: --- | F13: --- | G13: --- | H13: =IF(G13 <> "---", LEN(G13) - LEN(SUBSTITUTE(G13, " ", "")) + 1, 0) -> 0
A14: eed536aa-cad0-459a-9329-cf4c06be5122 | B14: 44242 | C14: 36 | D14: yes | E14: yes | F14: good | G14: never | H14: =IF(G14 <> "---", LEN(G14) - LEN(SUBSTITUTE(G14, " ", "")) + 1, 0) -> 1
A15: 6047eb4d-2956-4295-9ac8-8c682c92413d | B15: 44242 | C15: 19 | D15: no | E15: --- | F15: --- | G15: --- | H15: =IF(G15 <> "---", LEN(G15) - LEN(SUBSTITUTE(G15, " ", "")) + 1, 0) -> 0
A16: 22c1b46d-e70c-4635-a289-e4a550db1fd2 | B16: 44242 | C16: 52 | D16: yes | E16: yes | F16: good | G16: never | H16: =IF(G16 <> "---", LEN(G16) - LEN(SUBSTITUTE(G16, " ", "")) + 1, 0) -> 1
A17: 6b6af742-5ef9-46e6-95b5-a49aea120eb2 | B17: 44242 | C17: 15 | D17: yes | E17: no | F17: --- | G17: --- | H17: =IF(G17 <> "---", LEN(G17) - LEN(SUBSTITUTE(G17, " ", "")) + 1, 0) -> 0
A18: 6857dc53-c3ee-4cb3-b360-34c9284b34d0 | B18: 44242 | C18: 32 | D18: yes | E18: no | F18: --- | G18: --- | H18: =IF(G18 <> "---", LEN(G18) - LEN(SUBSTITUTE(G18, " ", "")) + 1, 0) -> 0
A19: 6cf454ae-fc00-4be5-880d-77a495e3968b | B19: 44242 | C19: 39 | D19: no | E19: --- | F19: --- | G19: --- | H19: =IF(G19 <> "---", LEN(G19) - LEN(SUBSTITUTE(G19, " ", "")) + 1, 0) -> 0
A20: d312c603-cd1d-4cc7-a84a-b75c3f963729 | B20: 44242 | C20: 30 | D20: yes | E20: no | F20: --- | G20: --- | H20: =IF(G20 <> "---", LEN(G20) - LEN(SUBSTITUTE(G20, " ", "")) + 1, 0) -> 0
A21: e8f00d0c-8250-49bc-a26b-9f2492b35634 | B21: 44242 | C21: 46 | D21: yes | E21: yes | F21: good | G21: sometimes | H21: =IF(G21 <> "---", LEN(G21) - LEN(SUBSTITUTE(G21, " ", "")) + 1, 0) -> 1
A22: 5057b8d0-6960-4b87-b369-a4e3fd20488e | B22: 44242 | C22: 20 | D22: no | E22: --- | F22: --- | G22: --- | H22: =IF(G22 <> "---", LEN(G22) - LEN(SUBSTITUTE(G22, " ", "")) + 1, 0) -> 0
A23: 395222f3-aa12-4f3c-b730-99a25926de1f | B23: 44242 | C23: 20 | D23: yes | E23: yes | F23: bad | G23: sometimes | H23: =IF(G23 <> "---", LEN(G23) - LEN(SUBSTITUTE(G23, " ", "")) + 1, 0) -> 1
A24: 323030e6-58c4-405f-8a5d-5b8ce878ec4e | B24: 44242 | C24: 18 | D24: yes | E24: no | F24: --- | G24: --- | H24: =IF(G24 <> "---", LEN(G24) - LEN(SUBSTITUTE(G24, " ", "")) + 1, 0) -> 0
... A99: 111db7d0-f63d-487c-8462-1a266bafa4fa | B99: 44229 | C99: 29 | D99: yes | E99: yes | F99: bad | G99: every_two_weeks | H99: =IF(G99 <> "---", LEN(G99) - LEN(SUBSTITUTE(G99, " ", "")) + 1, 0) -> 1
A100: d2c71c7a-060d-42df-adf0-16beb4f3e0c1 | B100: 44229 | C100: --- | D100: --- | E100: --- | F100: --- | G100: --- | H100: =IF(G100 <> "---", LEN(G100) - LEN(SUBSTITUTE(G100, " ", "")) + 1, 0) -> 0
A101: 378e4e65-9595-4196-8409-c140c1e41261 | B101: 44229 | C101: 39 | D101: no | E101: --- | F101: --- | G101: --- | H101: =IF(G101 <> "---", LEN(G101) - LEN(SUBSTITUTE(G101, " ", "")) + 1, 0) -> 0
A102: 43a7bfc4-ed23-4608-b97d-22d560ea0949 | B102: 44229 | C102: --- | D102: --- | E102: --- | F102: --- | G102: --- | H102: =IF(G102 <> "---", LEN(G102) - LEN(SUBSTITUTE(G102, " ", "")) + 1, 0) -> 0
A103: 78c3a402-8ba4-41d9-b4a9-a7bf99627bfb | B103: 44229 | C103: 28 | D103: no | E103: --- | F103: --- | G103: --- | H103: =IF(G103 <> "---", LEN(G103) - LEN(SUBSTITUTE(G103, " ", "")) + 1, 0) -> 0
A104: 5576b76a-7422-47e6-b43e-0c3e119e3f4e | B104: 44229 | C104: 41 | D104: yes | E104: yes | F104: bad | G104: sometimes | H104: =IF(G104 <> "---", LEN(G104) - LEN(SUBSTITUTE(G104, " ", "")) + 1, 0) -> 1
A105: 4c912c03-fd80-49c6-949b-078eed17ff58 | B105: 44229 | C105: 39 | D105: yes | E105: no | F105: --- | G105: --- | H105: =IF(G105 <> "---", LEN(G105) - LEN(SUBSTITUTE(G105, " ", "")) + 1, 0) -> 0
A106: 0305b1b4-81c7-4a73-81ee-1f7b9ab76839 | B106: 44229 | C106: 38 | D106: yes | E106: yes | F106: bad | G106: every_week child_sick | H106: =IF(G106 <> "---", LEN(G106) - LEN(SUBSTITUTE(G106, " ", "")) + 1, 0) -> 2
A107: 80b1510c-c052-43b5-bf65-e9cc52c25e49 | B107: 44229 | C107: 51 | D107: yes | E107: yes | F107: good | G107: every_week child_sick | H107: =IF(G107 <> "---", LEN(G107) - LEN(SUBSTITUTE(G107, " ", "")) + 1, 0) -> 2
A108: 1d9932f6-a48d-49eb-8fad-8cbd9d52696d | B108: 44229 | C108: 21 | D108: yes | E108: yes | F108: good | G108: every_week | H108: =IF(G108 <> "---", LEN(G108) - LEN(SUBSTITUTE(G108, " ", "")) + 1, 0) -> 1
A109: ea0b5c13-0149-4aa1-a868-d691025f8078 | B109: 44229 | C109: --- | D109: --- | E109: --- | F109: --- | G109: --- | H109: =IF(G109 <> "---", LEN(G109) - LEN(SUBSTITUTE(G109, " ", "")) + 1, 0) -> 0
A110: 44f36440-3f9c-4226-ab4a-088bd629e7ad | B110: 44229 | C110: 56 | D110: no | E110: --- | F110: --- | G110: --- | H110: =IF(G110 <> "---", LEN(G110) - LEN(SUBSTITUTE(G110, " ", "")) + 1, 0) -> 0
A111: b95dcda5-53a4-4c7f-bb08-23eb33d17666 | B111: 44229 | C111: 45 | D111: yes | E111: no | F111: --- | G111: --- | H111: =IF(G111 <> "---", LEN(G111) - LEN(SUBSTITUTE(G111, " ", "")) + 1, 0) -> 0
A112: 234e8400-7543-4b40-a874-497b2589a1bf | B112: 44230 | C112: 80 | D112: no | E112: --- | F112: --- | G112: --- | H112: =IF(G112 <> "---", LEN(G112) - LEN(SUBSTITUTE(G112, " ", "")) + 1, 0) -> 0
A113: a0151e21-e2dd-4932-b905-3532c16d5ef7 | B113: 44230 | C113: 32 | D113: no | E113: --- | F113: --- | G113: --- | H113: =IF(G113 <> "---", LEN(G113) - LEN(SUBSTITUTE(G113, " ", "")) + 1, 0) -> 0
A114: c4cddc6d-0c1d-4d18-bd55-320971cfae4b | B114: 44230 | C114: 20 | D114: yes | E114: no | F114: --- | G114: --- | H114: =IF(G114 <> "---", LEN(G114) - LEN(SUBSTITUTE(G114, " ", "")) + 1, 0) -> 0
...

Sheet 3. Distribution Age Groups

Sheet 4. Distribution Age Groups Per 

Sheet 6. Children + Mothers

Sheet 7. % Correct Oedemas

Sheet 8. Correct Oedema per Surveyor

Sheet 9. % Correct MUAC

Sheet 10-16. MUAC Analysis

Sheet 17. Survey Progress

Sheet 21. MUAC Use Frequency
A1: Modality | B1: Fequency
A2: never
A3: sometimes
A4: every_week
A5: every_two_weeks
A6: once_a_month
A7: child_sick

Sheet 22. Correlations

Sheet Parent Cases
A1: number | B1: number__0 | C1: number__1 | D1: parent_case_id | E1: parent_case_type | F1: relationship_type | G1: state
A2: 0.0 | B2: 0 | C2: 0 | D2: d30260ee-4407-40c1-8955-fff14582a200 | E2: mere-enfant | F2: child | G2: ---
A3: 1.0 | B3: 1 | C3: 0 | D3: 44f182ab-723b-468f-8da8-a581dbc2863f | E3: mere-enfant | F3: child | G3: ---
A4: 2.0 | B4: 2 | C4: 0 | D4: b57c8df2-0419-4c87-8e24-4df30607fcdf | E4: mere-enfant | F4: child | G4: ---
A5: 3.0 | B5: 3 | C5: 0 | D5: 5b3eb58d-fad6-414a-b17e-d5b4d8b6dd4f | E5: mere-enfant | F5: child | G5: ---
A6: 4.0 | B6: 4 | C6: 0 | D6: 5b3eb58d-fad6-414a-b17e-d5b4d8b6dd4f | E6: mere-enfant | F6: child | G6: ---
A7: 5.0 | B7: 5 | C7: 0 | D7: ed0e1357-ed0a-472c-b86b-75cba9a6ee02 | E7: mere-enfant | F7: child | G7: ---
A8: 6.0 | B8: 6 | C8: 0 | D8: ed0e1357-ed0a-472c-b86b-75cba9a6ee02 | E8: mere-enfant | F8: child | G8: ---
A9: 7.0 | B9: 7 | C9: 0 | D9: ed0e1357-ed0a-472c-b86b-75cba9a6ee02 | E9: mere-enfant | F9: child | G9: ---
A10: 8.0 | B10: 8 | C10: 0 | D10: ed0e1357-ed0a-472c-b86b-75cba9a6ee02 | E10: mere-enfant | F10: child | G10: ---
A11: 9.0 | B11: 9 | C11: 0 | D11: ed0e1357-ed0a-472c-b86b-75cba9a6ee02 | E11: mere-enfant | F11: child | G11: ---
A12: 10.0 | B12: 10 | C12: 0 | D12: da46012b-3505-46d4-b495-0ea0753c1448 | E12: mere-enfant | F12: child | G12: ---
A13: 11.0 | B13: 11 | C13: 0 | D13: 5b3eb58d-fad6-414a-b17e-d5b4d8b6dd4f | E13: mere-enfant | F13: child | G13: ---
... A180: 178.0 | B180: 178 | C180: 0 | D180: a34b7f57-1a47-4022-9fe8-441ea47e27c6 | E180: mere-enfant | F180: child | G180: ---
