Workbook
Name PB_DATE_FILTER_START: #REF!
Name PB_DATE_FILTER_END: #REF!

Sheet Data - Child
A1: id | B1: date_survey | C1: district | D1: age | E1: sex | F1: vaccination_card_present | G1: vaccination_penta | H1: vaccination_measles | I1: oedemas_surveyor | J1: oedemas_supervisor | K1: muac_surveyor | L1: muac_supervisor | M1: mother_id | N1: surveyor_id | O1: dob | P1: age_group | Q1: sex_clean | R1: oedema_correct | S1: muac_correct | T1: age_mother
A2: 8770b164-804e-4272-8ddb-4946abf25703 | B2: 44243 | C2: la_pampa | D2: 9 | E2: 2 | F2: yes | G2: yes | H2: yes | I2: no | J2: no | K2: 130 | L2: 131 | M2: 6a879563-2a72-404f-9570-70c8c2db0721 | N2: lionel | O2: =IF(D2<>"---", DATE(YEAR(B2), MONTH(B2) - D2, DAY(B2)), "---") -> 43967 | P2: =IF(D2 <= 12, "0_12", IF(D2 >= 25, "25+", "13_25")) -> 0_12 | Q2: =IF(E2=2, "f", IF(E2 = 1, "m", "---")) -> f | R2: =IF(J2 <> "---", I2=J2, "---") -> TRUE | S2: =IF(L2 <> "---", ABS(K2-L2) <= 2, "---") -> TRUE | T2: =VLOOKUP(M2, 'Data - Mother'!$A:$C, 3, FALSE) -> 28
A3: d16d73b2-8ad0-40b9-a2b7-722cb7b7f740 | B3: 44243 | C3: la_pampa | D3: 24 | E3: 1 | F3: yes | G3: yes | H3: yes | I3: no | J3: yes | K3: 147 | L3: 148 | M3: 1fb76b7d-56af-424e-841c-fdfd00ce697c | N3: lionel | O3: =IF(D3<>"---", DATE(YEAR(B3), MONTH(B3) - D3, DAY(B3)), "---") -> 43512 | P3: =IF(D3 <= 12, "0_12", IF(D3 >= 25, "25+", "13_25")) -> 13_25 | Q3: =IF(E3=2, "f", IF(E3 = 1, "m", "---")) -> m | R3: =IF(J3 <> "---", I3=J3, "---") -> FALSE | S3: =IF(L3 <> "---", ABS(K3-L3) <= 2, "---") -> TRUE | T3: =VLOOKUP(M3, 'Data - Mother'!$A:$C, 3, FALSE) -> 27
A4: a13a3713-abd2-4f84-8f0e-59ba23e998c6 | B4: 44243 | C4: misiones | D4: 24 | E4: 2 | F4: yes | G4: yes | H4: yes | I4: no | J4: no | K4: 178 | L4: --- | M4: 3f2e004e-0459-46c8-b0fe-f1a9f7071e81 | N4: diego | O4: =IF(D4<>"---", DATE(YEAR(B4), MONTH(B4) - D4, DAY(B4)), "---") -> 43512 | P4: =IF(D4 <= 12, "0_12", IF(D4 >= 25, "25+", "13_25")) -> 13_25 | Q4: =IF(E4=2, "f", IF(E4 = 1, "m", "---")) -> f | R4: =IF(J4 <> "---", I4=J4, "---") -> TRUE | S4: =IF(L4 <> "---", ABS(K4-L4) <= 2, "---") -> --- | T4: =VLOOKUP(M4, 'Data - Mother'!$A:$C, 3, FALSE) -> 38
A5: d38d9c34-5516-4780-bd6f-7256357c887d | B5: 44243 | C5: la_pampa | D5: 36 | E5: 2 | F5: yes | G5: yes | H5: yes | I5: no | J5: yes | K5: 142 | L5: 142 | M5: 5420766e-af52-4416-a869-010e24d20d27 | N5: lionel | O5: =IF(D5<>"---", DATE(YEAR(B5), MONTH(B5) - D5, DAY(B5)), "---") -> 43147 | P5: =IF(D5 <= 12, "0_12", IF(D5 >= 25, "25+", "13_25")) -> 25+ | Q5: =IF(E5=2, "f", IF(E5 = 1, "m", "---")) -> f | R5: =IF(J5 <> "---", I5=J5, "---") -> FALSE | S5: =IF(L5 <> "---", ABS(K5-L5) <= 2, "---") -> TRUE | T5: =VLOOKUP(M5, 'Data - Mother'!$A:$C, 3, FALSE) -> 21
A6: e5de3591-aafa-45be-9041-3e7e8d88a15b | B6: 44243 | C6: mendoza | D6: 37 | E6: 2 | F6: yes | G6: yes | H6: yes | I6: no | J6: yes | K6: 151 | L6: 151 | M6: b274c467-222c-4d47-82fb-43b5a42b0a66 | N6: alfredo | O6: =IF(D6<>"---", DATE(YEAR(B6), MONTH(B6) - D6, DAY(B6)), "---") -> 43116 | P6: =IF(D6 <= 12, "0_12", IF(D6 >= 25, "25+", "13_25")) -> 25+ | Q6: =IF(E6=2, "f", IF(E6 = 1, "m", "---")) -> f | R6: =IF(J6 <> "---", I6=J6, "---") -> FALSE | S6: =IF(L6 <> "---", ABS(K6-L6) <= 2, "---") -> TRUE | T6: =VLOOKUP(M6, 'Data - Mother'!$A:$C, 3, FALSE) -> 30
A7: 84c88062-6d56-41dc-b8d8-d73083accbf9 | B7: 44243 | C7: misiones | D7: 28 | E7: 1 | F7: yes | G7: yes | H7: yes | I7: no | J7: no | K7: 158 | L7: --- | M7: 091b6dea-7bb5-4f3f-b8e0-34c8ef88ef5a | N7: diego | O7: =IF(D7<>"---", DATE(YEAR(B7), MONTH(B7) - D7, DAY(B7)), "---") -> 43389 | P7: =IF(D7 <= 12, "0_12", IF(D7 >= 25, "25+", "13_25")) -> 25+ | Q7: =IF(E7=2, "f", IF(E7 = 1, "m", "---")) -> m | R7: =IF(J7 <> "---", I7=J7, "---") -> TRUE | S7: =IF(L7 <> "---", ABS(K7-L7) <= 2, "---") -> --- | T7: =VLOOKUP(M7, 'Data - Mother'!$A:$C, 3, FALSE) -> 43
A8: 8e3eccad-6c05-4d28-90f5-c420399b5fc0 | B8: 44243 | C8: misiones | D8: 26 | E8: 1 | F8: yes | G8: yes | H8: yes | I8: no | J8: no | K8: 156 | L8: --- | M8: adf3bfcb-585f-4f63-96c8-f47b6fa14364 | N8: diego | O8: =IF(D8<>"---", DATE(YEAR(B8), MONTH(B8) - D8, DAY(B8)), "---") -> 43450 | P8: =IF(D8 <= 12, "0_12", IF(D8 >= 25, "25+", "13_25")) -> 25+ | Q8: =IF(E8=2, "f", IF(E8 = 1, "m", "---")) -> m | R8: =IF(J8 <> "---", I8=J8, "---") -> TRUE | S8: =IF(L8 <> "---", ABS(K8-L8) <= 2, "---") -> --- | T8: =VLOOKUP(M8, 'Data - Mother'!$A:$C, 3, FALSE) -> 29
A9: 798af79c-cbaf-4bbd-a52b-3674215c4097 | B9: 44242 | C9: mendoza | D9: 14 | E9: 2 | F9: no | G9: --- | H9: --- | I9: no | J9: yes | K9: 144 | L9: 144 | M9: bbecb0e8-e3f9-4609-9dd7-dd5ac2cf80c6 | N9: alfredo | O9: =IF(D9<>"---", DATE(YEAR(B9), MONTH(B9) - D9, DAY(B9)), "---") -> 43814 | P9: =IF(D9 <= 12, "0_12", IF(D9 >= 25, "25+", "13_25")) -> 13_25 | Q9: =IF(E9=2, "f", IF(E9 = 1, "m", "---")) -> f | R9: =IF(J9 <> "---", I9=J9, "---") -> FALSE | S9: =IF(L9 <> "---", ABS(K9-L9) <= 2, "---") -> TRUE | T9: =VLOOKUP(M9, 'Data - Mother'!$A:$C, 3, FALSE) -> 23
A10: 0868fa2e-8733-4460-b73a-2fd40fed4827 | B10: 44242 | C10: mendoza | D10: 48 | E10: 2 | F10: yes | G10: yes | H10: yes | I10: no | J10: yes | K10: 150 | L10: 150 | M10: c08fad1b-39e0-4b4b-8064-6b6fc5977f5a | N10: alfredo | O10: =IF(D10<>"---", DATE(YEAR(B10), MONTH(B10) - D10, DAY(B10)), "---") -> 42781 | P10: =IF(D10 <= 12, "0_12", IF(D10 >= 25, "25+", "13_25")) -> 25+ | Q10: =IF(E10=2, "f", IF(E10 = 1, "m", "---")) -> f | R10: =IF(J10 <> "---", I10=J10, "---") -> FALSE | S10: =IF(L10 <> "---", ABS(K10-L10) <= 2, "---") -> TRUE | T10: =VLOOKUP(M10, 'Data - Mother'!$A:$C, 3, FALSE) -> 26
A11: 040913c2-bdf7-4b3e-892a-8a20c44e6b50 | B11: 44242 | C11: mendoza | D11: 38 | E11: 1 | F11: yes | G11: yes | H11: yes | I11: no | J11: yes | K11: 164 | L11: 161 | M11: 09e43130-27ef-47bc-aaa5-9c43220c3634 | N11: alfredo | O11: =IF(D11<>"---", DATE(YEAR(B11), MONTH(B11) - D11, DAY(B11)), "---") -> 43084 | P11: =IF(D11 <= 12, "0_12", IF(D11 >= 25, "25+", "13_25")) -> 25+ | Q11: =IF(E11=2, "f", IF(E11 = 1, "m", "---")) -> m | R11: =IF(J11 <> "---", I11=J11, "---") -> FALSE | S11: =IF(L11 <> "---", ABS(K11-L11) <= 2, "---") -> FALSE | T11: =VLOOKUP(M11, 'Data - Mother'!$A:$C, 3, FALSE) -> 25
A12: 701b908c-4f85-4242-8138-c179245599f9 | B12: 44242 | C12: corrientes | D12: 19 | E12: 1 | F12: yes | G12: yes | H12: yes | I12: no | J12: no | K12: 140 | L12: --- | M12: 40523a40-0592-4ae1-8a5b-08b38b372135 | N12: mario | O12: =IF(D12<>"---", DATE(YEAR(B12), MONTH(B12) - D12, DAY(B12)), "---") -> 43661 | P12: =IF(D12 <= 12, "0_12", IF(D12 >= 25, "25+", "13_25")) -> 13_25 | Q12: =IF(E12=2, "f", IF(E12 = 1, "m", "---")) -> m | R12: =IF(J12 <> "---", I12=J12, "---") -> TRUE | S12: =IF(L12 <> "---", ABS(K12-L12) <= 2, "---") -> --- | T12: =VLOOKUP(M12, 'Data - Mother'!$A:$C, 3, FALSE) -> 26
A13: 035d3e78-f3aa-428b-848a-de09409f80fb | B13: 44242 | C13: jujuy | D13: 38 | E13: 2 | F13: yes | G13: yes | H13: yes | I13: no | J13: yes | K13: 148 | L13: 148 | M13: b2dacc52-4256-4c07-aa7c-c4e2d54fada7 | N13: daniel | O13: =IF(D13<>"---", DATE(YEAR(B13), MONTH(B13) - D13, DAY(B13)), "---") -> 43084 | P13: =IF(D13 <= 12, "0_12", IF(D13 >= 25, "25+", "13_25")) -> 25+ | Q13: =IF(E13=2, "f", IF(E13 = 1, "m", "---")) -> f | R13: =IF(J13 <> "---", I13=J13, "---") -> FALSE | S13: =IF(L13 <> "---", ABS(K13-L13) <= 2, "---") -> TRUE | T13: =VLOOKUP(M13, 'Data - Mother'!$A:$C, 3, FALSE) -> 38
A14: 02cb4dbf-276c-46a6-91ca-7728ec643131 | B14: 44242 | C14: chaco | D14: 14 | E14: 1 | F14: no | G14: --- | H14: --- | I14: no | J14: yes | K14: 144 | L14: 144 | M14: 4d73c94b-28da-4661-a42f-13d66e82cd59 | N14: claudio | O14: =IF(D14<>"---", DATE(YEAR(B14), MONTH(B14) - D14, DAY(B14)), "---") -> 43814 | P14: =IF(D14 <= 12, "0_12", IF(D14 >= 25, "25+", "13_25")) -> 13_25 | Q14: =IF(E14=2, "f", IF(E14 = 1, "m", "---")) -> m | R14: =IF(J14 <> "---", I14=J14, "---") -> FALSE | S14: =IF(L14 <> "---", ABS(K14-L14) <= 2, "---") -> TRUE | T14: =VLOOKUP(M14, 'Data - Mother'!$A:$C, 3, FALSE) -> 28
A15: 9686e921-209c-42ac-9921-711b6fa71fa8 | B15: 44242 | C15: chaco | D15: 6 | E15: 2 | F15: yes | G15: yes | H15: no | I15: no | J15: no | K15: 122 | L15: --- | M15: 6c5091b8-5836-4f9c-8552-82443608b4de | N15: claudio | O15: =IF(D15<>"---", DATE(YEAR(B15), MONTH(B15) - D15, DAY(B15)), "---") -> 44058 | P15: =IF(D15 <= 12, "0_12", IF(D15 >= 25, "25+", "13_25")) -> 0_12 | Q15: =IF(E15=2, "f", IF(E15 = 1, "m", "---")) -> f | R15: =IF(J15 <> "---", I15=J15, "---") -> TRUE | S15: =IF(L15 <> "---", ABS(K15-L15) <= 2, "---") -> --- | T15: =VLOOKUP(M15, 'Data - Mother'!$A:$C, 3, FALSE) -> 30
A16: dfbd8c18-b427-4db4-8968-bed173dc38f6 | B16: 44242 | C16: formosa | D16: 31 | E16: 1 | F16: no | G16: --- | H16: --- | I16: no | J16: no | K16: 139 | L16: --- | M16: f431303f-81da-4d35-a2c7-474bb4bb3d3b | N16: gabriel | O16: =IF(D16<>"---", DATE(YEAR(B16), MONTH(B16) - D16, DAY(B16)), "---") -> 43296 | P16: =IF(D16 <= 12, "0_12", IF(D16 >= 25, "25+", "13_25")) -> 25+ | Q16: =IF(E16=2, "f", IF(E16 = 1, "m", "---")) -> m | R16: =IF(J16 <> "---", I16=J16, "---") -> TRUE | S16: =IF(L16 <> "---", ABS(K16-L16) <= 2, "---") -> --- | T16: =VLOOKUP(M16, 'Data - Mother'!$A:$C, 3, FALSE) -> 22
A17: d3759b99-eddf-4253-a216-20a612ca58e5 | B17: 44242 | C17: formosa | D17: 36 | E17: 1 | F17: no | G17: --- | H17: --- | I17: no | J17: no | K17: 133 | L17: --- | M17: f431303f-81da-4d35-a2c7-474bb4bb3d3b | N17: gabriel | O17: =IF(D17<>"---", DATE(YEAR(B17), MONTH(B17) - D17, DAY(B17)), "---") -> 43146 | P17: =IF(D17 <= 12, "0_12", IF(D17 >= 25, "25+", "13_25")) -> 25+ | Q17: =IF(E17=2, "f", IF(E17 = 1, "m", "---")) -> m | R17: =IF(J17 <> "---", I17=J17, "---") -> TRUE | S17: =IF(L17 <> "---", ABS(K17-L17) <= 2, "---") -> --- | T17: =VLOOKUP(M17, 'Data - Mother'!$A:$C, 3, FALSE) -> 22
A18: 37a1adbc-98d9-492a-8a39-e33c8a2804c4 | B18: 44242 | C18: la_rioja | D18: 48 | E18: 1 | F18: no | G18: --- | H18: --- | I18: no | J18: yes | K18: 163 | L18: 163 | M18: 79d446f9-a01c-4c67-b200-9abc1d0bc582 | N18: hernan | O18: =IF(D18<>"---", DATE(YEAR(B18), MONTH(B18) - D18, DAY(B18)), "---") -> 42781 | P18: =IF(D18 <= 12, "0_12", IF(D18 >= 25, "25+", "13_25")) -> 25+ | Q18: =IF(E18=2, "f", IF(E18 = 1, "m", "---")) -> m | R18: =IF(J18 <> "---", I18=J18, "---") -> FALSE | S18: =IF(L18 <> "---", ABS(K18-L18) <= 2, "---") -> TRUE | T18: =VLOOKUP(M18, 'Data - Mother'!$A:$C, 3, FALSE) -> 64
A19: 48f50717-2d3d-441e-a276-855e4a8aa418 | B19: 44242 | C19: entre_rios | D19: 48 | E19: 1 | F19: no | G19: --- | H19: --- | I19: no | J19: yes | K19: 169 | L19: 168 | M19: 8a840e5c-5250-410b-a2d9-1902f57befe0 | N19: javier | O19: =IF(D19<>"---", DATE(YEAR(B19), MONTH(B19) - D19, DAY(B19)), "---") -> 42781 | P19: =IF(D19 <= 12, "0_12", IF(D19 >= 25, "25+", "13_25")) -> 25+ | Q19: =IF(E19=2, "f", IF(E19 = 1, "m", "---")) -> m | R19: =IF(J19 <> "---", I19=J19, "---") -> FALSE | S19: =IF(L19 <> "---", ABS(K19-L19) <= 2, "---") -> TRUE | T19: =VLOOKUP(M19, 'Data - Mother'!$A:$C, 3, FALSE) -> 25
A20: 42bf66e0-1fec-41c0-9695-e3bbb251cc22 | B20: 44242 | C20: jujuy | D20: 20 | E20: 1 | F20: yes | G20: yes | H20: yes | I20: no | J20: no | K20: 130 | L20: --- | M20: eb69c8a0-15a3-4000-aec0-dba519155878 | N20: daniel | O20: =IF(D20<>"---", DATE(YEAR(B20), MONTH(B20) - D20, DAY(B20)), "---") -> 43631 | P20: =IF(D20 <= 12, "0_12", IF(D20 >= 25, "25+", "13_25")) -> 13_25 | Q20: =IF(E20=2, "f", IF(E20 = 1, "m", "---")) -> m | R20: =IF(J20 <> "---", I20=J20, "---") -> TRUE | S20: =IF(L20 <> "---", ABS(K20-L20) <= 2, "---") -> --- | T20: =VLOOKUP(M20, 'Data - Mother'!$A:$C, 3, FALSE) -> 22
A21: 318650a6-bda3-4a9a-b8a3-7e5849e4f5dd | B21: 44242 | C21: la_rioja | D21: 57 | E21: 2 | F21: no | G21: --- | H21: --- | I21: no | J21: yes | K21: 164 | L21: 164 | M21: d389e1fc-1e57-4383-b282-a926e273596a | N21: sergio | O21: =IF(D21<>"---", DATE(YEAR(B21), MONTH(B21) - D21, DAY(B21)), "---") -> 42505 | P21: =IF(D21 <= 12, "0_12", IF(D21 >= 25, "25+", "13_25")) -> 25+ | Q21: =IF(E21=2, "f", IF(E21 = 1, "m", "---")) -> f | R21: =IF(J21 <> "---", I21=J21, "---") -> FALSE | S21: =IF(L21 <> "---", ABS(K21-L21) <= 2, "---") -> TRUE | T21: =VLOOKUP(M21, 'Data - Mother'!$A:$C, 3, FALSE) -> 22
A22: 7298e3b1-b889-4412-8365-008c00b39216 | B22: 44242 | C22: formosa | D22: 47 | E22: 2 | F22: yes | G22: yes | H22: yes | I22: no | J22: no | K22: 153 | L22: --- | M22: 59a47164-4025-41e5-922b-6b2b7376525c | N22: gabriel | O22: =IF(D22<>"---", DATE(YEAR(B22), MONTH(B22) - D22, DAY(B22)), "---") -> 42809 | P22: =IF(D22 <= 12, "0_12", IF(D22 >= 25, "25+", "13_25")) -> 25+ | Q22: =IF(E22=2, "f", IF(E22 = 1, "m", "---")) -> f | R22: =IF(J22 <> "---", I22=J22, "---") -> TRUE | S22: =IF(L22 <> "---", ABS(K22-L22) <= 2, "---") -> --- | T22: =VLOOKUP(M22, 'Data - Mother'!$A:$C, 3, FALSE) -> 36
A23: 946fb392-b61c-46c3-ab63-060eca6d246b | B23: 44242 | C23: la_rioja | D23: 43 | E23: 1 | F23: yes | G23: yes | H23: yes | I23: no | J23: yes | K23: 152 | L23: 151 | M23: d7e2fa0a-f669-47cb-b791-f98a6e7cfe94 | N23: zinedine | O23: =IF(D23<>"---", DATE(YEAR(B23), MONTH(B23) - D23, DAY(B23)), "---") -> 42931 | P23: =IF(D23 <= 12, "0_12", IF(D23 >= 25, "25+", "13_25")) -> 25+ | Q23: =IF(E23=2, "f", IF(E23 = 1, "m", "---")) -> m | R23: =IF(J23 <> "---", I23=J23, "---") -> FALSE | S23: =IF(L23 <> "---", ABS(K23-L23) <= 2, "---") -> TRUE | T23: =VLOOKUP(M23, 'Data - Mother'!$A:$C, 3, FALSE) -> 20
A24: 54bdedf6-296d-41e5-b6f2-967a12e82066 | B24: 44242 | C24: formosa | D24: 20 | E24: 1 | F24: no | G24: --- | H24: --- | I24: no | J24: no | K24: 152 | L24: --- | M24: b5da9a28-1af1-4311-a263-93db683c7f13 | N24: gabriel | O24: =IF(D24<>"---", DATE(YEAR(B24), MONTH(B24) - D24, DAY(B24)), "---") -> 43631 | P24: =IF(D24 <= 12, "0_12", IF(D24 >= 25, "25+", "13_25")) -> 13_25 | Q24: =IF(E24=2, "f", IF(E24 = 1, "m", "---")) -> m | R24: =IF(J24 <> "---", I24=J24, "---") -> TRUE | S24: =IF(L24 <> "---", ABS(K24-L24) <= 2, "---") -> --- | T24: =VLOOKUP(M24, 'Data - Mother'!$A:$C, 3, FALSE) -> 30
A25: 3b094824-9cca-4ec8-9d96-17dd8ab6f148 | B25: 44242 | C25: misiones | D25: 24 | E25: 1 | F25: yes | G25: yes | H25: yes | I25: no | J25: yes | K25: 147 | L25: 146 | M25: 8155170d-6f75-49a3-9d7b-b3bf53533e96 | N25: diego | O25: =IF(D25<>"---", DATE(YEAR(B25), MONTH(B25) - D25, DAY(B25)), "---") -> 43511 | P25: =IF(D25 <= 12, "0_12", IF(D25 >= 25, "25+", "13_25")) -> 13_25 | Q25: =IF(E25=2, "f", IF(E25 = 1, "m", "---")) -> m | R25: =IF(J25 <> "---", I25=J25, "---") -> FALSE | S25: =IF(L25 <> "---", ABS(K25-L25) <= 2, "---") -> TRUE | T25: =VLOOKUP(M25, 'Data - Mother'!$A:$C, 3, FALSE) -> 37
A26: 601dccfb-fb94-4023-93cd-f575804748fa | B26: 44242 | C26: formosa | D26: 36 | E26: 1 | F26: no | G26: --- | H26: --- | I26: no | J26: no | K26: 156 | L26: --- | M26: b5da9a28-1af1-4311-a263-93db683c7f13 | N26: gabriel | O26: =IF(D26<>"---", DATE(YEAR(B26), MONTH(B26) - D26, DAY(B26)), "---") -> 43146 | P26: =IF(D26 <= 12, "0_12", IF(D26 >= 25, "25+", "13_25")) -> 25+ | Q26: =IF(E26=2, "f", IF(E26 = 1, "m", "---")) -> m | R26: =IF(J26 <> "---", I26=J26, "---") -> TRUE | S26: =IF(L26 <> "---", ABS(K26-L26) <= 2, "---") -> --- | T26: =VLOOKUP(M26, 'Data - Mother'!$A:$C, 3, FALSE) -> 30
A27: 8c9141f8-8aee-47d8-bb89-56f9a21c0c1d | B27: 44242 | C27: misiones | D27: 9 | E27: 1 | F27: yes | G27: yes | H27: yes | I27: no | J27: no | K27: 140 | L27: --- | M27: 1ba3c1cd-1140-476e-a8b5-9a5c2c7dec10 | N27: diego | O27: =IF(D27<>"---", DATE(YEAR(B27), MONTH(B27) - D27, DAY(B27)), "---") -> 43966 | P27: =IF(D27 <= 12, "0_12", IF(D27 >= 25, "25+", "13_25")) -> 0_12 | Q27: =IF(E27=2, "f", IF(E27 = 1, "m", "---")) -> m | R27: =IF(J27 <> "---", I27=J27, "---") -> TRUE | S27: =IF(L27 <> "---", ABS(K27-L27) <= 2, "---") -> --- | T27: =VLOOKUP(M27, 'Data - Mother'!$A:$C, 3, FALSE) -> 25
A28: a44bb297-a90a-4900-9298-af72ccbf5833 | B28: 44242 | C28: formosa | D28: 8 | E28: 2 | F28: no | G28: --- | H28: --- | I28: no | J28: yes | K28: 128 | L28: 129 | M28: 046834f6-4a87-4cc1-b5c5-15bff8b8dab2 | N28: fabien | O28: =IF(D28<>"---", DATE(YEAR(B28), MONTH(B28) - D28, DAY(B28)), "---") -> 43997 | P28: =IF(D28 <= 12, "0_12", IF(D28 >= 25, "25+", "13_25")) -> 0_12 | Q28: =IF(E28=2, "f", IF(E28 = 1, "m", "---")) -> f | R28: =IF(J28 <> "---", I28=J28, "---") -> FALSE | S28: =IF(L28 <> "---", ABS(K28-L28) <= 2, "---") -> TRUE | T28: =VLOOKUP(M28, 'Data - Mother'!$A:$C, 3, FALSE) -> 25
A29: ae3bc50e-9268-445a-9130-2e9ebe210408 | B29: 44242 | C29: jujuy | D29: 38 | E29: 1 | F29: no | G29: --- | H29: --- | I29: no | J29: no | K29: 151 | L29: --- | M29: dc41b699-a034-4038-b92a-046ee1350cd3 | N29: daniel | O29: =IF(D29<>"---", DATE(YEAR(B29), MONTH(B29) - D29, DAY(B29)), "---") -> 43084 | P29: =IF(D29 <= 12, "0_12", IF(D29 >= 25, "25+", "13_25")) -> 25+ | Q29: =IF(E29=2, "f", IF(E29 = 1, "m", "---")) -> m | R29: =IF(J29 <> "---", I29=J29, "---") -> TRUE | S29: =IF(L29 <> "---", ABS(K29-L29) <= 2, "---") -> --- | T29: =VLOOKUP(M29, 'Data - Mother'!$A:$C, 3, FALSE) -> 35
A30: 5d7f0230-b9ff-403a-b4ce-f6f3a4724273 | B30: 44242 | C30: chaco | D30: 16 | E30: 2 | F30: yes | G30: yes | H30: yes | I30: no | J30: yes | K30: 135 | L30: 134 | M30: 69212b43-98bf-48e6-8a74-0aabdf7975a7 | N30: claudio | O30: =IF(D30<>"---", DATE(YEAR(B30), MONTH(B30) - D30, DAY(B30)), "---") -> 43753 | P30: =IF(D30 <= 12, "0_12", IF(D30 >= 25, "25+", "13_25")) -> 13_25 | Q30: =IF(E30=2, "f", IF(E30 = 1, "m", "---")) -> f | R30: =IF(J30 <> "---", I30=J30, "---") -> FALSE | S30: =IF(L30 <> "---", ABS(K30-L30) <= 2, "---") -> TRUE | T30: =VLOOKUP(M30, 'Data - Mother'!$A:$C, 3, FALSE) -> 25
A31: aabd0c44-0d21-4dce-a0e7-ac3ae2b8f6f6 | B31: 44242 | C31: la_rioja | D31: 16 | E31: 1 | F31: no | G31: --- | H31: --- | I31: no | J31: yes | K31: 143 | L31: 143 | M31: ce426a92-ff71-4e1e-a22c-42bba357e888 | N31: sergio | O31: =IF(D31<>"---", DATE(YEAR(B31), MONTH(B31) - D31, DAY(B31)), "---") -> 43753 | P31: =IF(D31 <= 12, "0_12", IF(D31 >= 25, "25+", "13_25")) -> 13_25 | Q31: =IF(E31=2, "f", IF(E31 = 1, "m", "---")) -> m | R31: =IF(J31 <> "---", I31=J31, "---") -> FALSE | S31: =IF(L31 <> "---", ABS(K31-L31) <= 2, "---") -> TRUE | T31: =VLOOKUP(M31, 'Data - Mother'!$A:$C, 3, FALSE) -> 22
A32: 37f99516-4771-45d3-aeee-cdc1717af847 | B32: 44242 | C32: la_rioja | D32: 28 | E32: 1 | F32: no | G32: --- | H32: --- | I32: no | J32: yes | K32: 172 | L32: 172 | M32: b808d1af-b8b7-4271-9299-5979d077f65a | N32: sergio | O32: =IF(D32<>"---", DATE(YEAR(B32), MONTH(B32) - D32, DAY(B32)), "---") -> 43388 | P32: =IF(D32 <= 12, "0_12", IF(D32 >= 25, "25+", "13_25")) -> 25+ | Q32: =IF(E32=2, "f", IF(E32 = 1, "m", "---")) -> m | R32: =IF(J32 <> "---", I32=J32, "---") -> FALSE | S32: =IF(L32 <> "---", ABS(K32-L32) <= 2, "---") -> TRUE | T32: =VLOOKUP(M32, 'Data - Mother'!$A:$C, 3, FALSE) -> 22
A33: f464024d-78cc-49f1-9bd5-e06f03c5ad8a | B33: 44242 | C33: mendoza | D33: 12 | E33: 1 | F33: no | G33: --- | H33: --- | I33: no | J33: yes | K33: 157 | L33: 157 | M33: 4abad4df-5253-4c23-93bb-b6c36e6f7e2a | N33: alfredo | O33: =IF(D33<>"---", DATE(YEAR(B33), MONTH(B33) - D33, DAY(B33)), "---") -> 43876 | P33: =IF(D33 <= 12, "0_12", IF(D33 >= 25, "25+", "13_25")) -> 0_12 | Q33: =IF(E33=2, "f", IF(E33 = 1, "m", "---")) -> m | R33: =IF(J33 <> "---", I33=J33, "---") -> FALSE | S33: =IF(L33 <> "---", ABS(K33-L33) <= 2, "---") -> TRUE | T33: =VLOOKUP(M33, 'Data - Mother'!$A:$C, 3, FALSE) -> 27
A34: aaae2d21-67cc-460d-97d3-e4f144f42031 | B34: 44242 | C34: corrientes | D34: 31 | E34: 1 | F34: no | G34: --- | H34: --- | I34: no | J34: yes | K34: 150 | L34: 150 | M34: 84b5b4ad-ceac-4a37-9080-e80cf0912993 | N34: mario | O34: =IF(D34<>"---", DATE(YEAR(B34), MONTH(B34) - D34, DAY(B34)), "---") -> 43296 | P34: =IF(D34 <= 12, "0_12", IF(D34 >= 25, "25+", "13_25")) -> 25+ | Q34: =IF(E34=2, "f", IF(E34 = 1, "m", "---")) -> m | R34: =IF(J34 <> "---", I34=J34, "---") -> FALSE | S34: =IF(L34 <> "---", ABS(K34-L34) <= 2, "---") -> TRUE | T34: =VLOOKUP(M34, 'Data - Mother'!$A:$C, 3, FALSE) -> 22
A35: 5ed8722d-9841-4cc3-9187-be0a4521c893 | B35: 44242 | C35: chaco | D35: 9 | E35: 1 | F35: yes | G35: yes | H35: yes | I35: no | J35: no | K35: 135 | L35: --- | M35: 455b0d5c-f651-4144-ada6-299e6e8da021 | N35: claudio | O35: =IF(D35<>"---", DATE(YEAR(B35), MONTH(B35) - D35, DAY(B35)), "---") -> 43966 | P35: =IF(D35 <= 12, "0_12", IF(D35 >= 25, "25+", "13_25")) -> 0_12 | Q35: =IF(E35=2, "f", IF(E35 = 1, "m", "---")) -> m | R35: =IF(J35 <> "---", I35=J35, "---") -> TRUE | S35: =IF(L35 <> "---", ABS(K35-L35) <= 2, "---") -> --- | T35: =VLOOKUP(M35, 'Data - Mother'!$A:$C, 3, FALSE) -> 18
A36: 8e59c7e8-e8cb-4108-9466-aa8e9288b960 | B36: 44242 | C36: cordoba | D36: 42 | E36: 2 | F36: yes | G36: yes | H36: yes | I36: no | J36: no | K36: 145 | L36: --- | M36: f711662e-5187-4b77-a2a5-25a1a4e91d46 | N36: emmanuel | O36: =IF(D36<>"---", DATE(YEAR(B36), MONTH(B36) - D36, DAY(B36)), "---") -> 42962 | P36: =IF(D36 <= 12, "0_12", IF(D36 >= 25, "25+", "13_25")) -> 25+ | Q36: =IF(E36=2, "f", IF(E36 = 1, "m", "---")) -> f | R36: =IF(J36 <> "---", I36=J36, "---") -> TRUE | S36: =IF(L36 <> "---", ABS(K36-L36) <= 2, "---") -> --- | T36: =VLOOKUP(M36, 'Data - Mother'!$A:$C, 3, FALSE) -> 27
A37: 530cf329-8e5b-4f2f-a2c9-4790c96ab929 | B37: 44242 | C37: cordoba | D37: 48 | E37: 1 | F37: no | G37: --- | H37: --- | I37: no | J37: no | K37: 162 | L37: --- | M37: 14ea272c-6721-4d14-9bc8-206a98427bde | N37: emmanuel | O37: =IF(D37<>"---", DATE(YEAR(B37), MONTH(B37) - D37, DAY(B37)), "---") -> 42781 | P37: =IF(D37 <= 12, "0_12", IF(D37 >= 25, "25+", "13_25")) -> 25+ | Q37: =IF(E37=2, "f", IF(E37 = 1, "m", "---")) -> m | R37: =IF(J37 <> "---", I37=J37, "---") -> TRUE | S37: =IF(L37 <> "---", ABS(K37-L37) <= 2, "---") -> --- | T37: =VLOOKUP(M37, 'Data - Mother'!$A:$C, 3, FALSE) -> 25
A38: 65bc4039-c48a-4984-b5a6-6821cc9e2d57 | B38: 44242 | C38: cordoba | D38: 41 | E38: 1 | F38: no | G38: --- | H38: --- | I38: no | J38: no | K38: 143 | L38: --- | M38: 9a8da569-e1a0-4b60-8c95-e60b9ea8bd56 | N38: emmanuel | O38: =IF(D38<>"---", DATE(YEAR(B38), MONTH(B38) - D38, DAY(B38)), "---") -> 42993 | P38: =IF(D38 <= 12, "0_12", IF(D38 >= 25, "25+", "13_25")) -> 25+ | Q38: =IF(E38=2, "f", IF(E38 = 1, "m", "---")) -> m | R38: =IF(J38 <> "---", I38=J38, "---") -> TRUE | S38: =IF(L38 <> "---", ABS(K38-L38) <= 2, "---") -> --- | T38: =VLOOKUP(M38, 'Data - Mother'!$A:$C, 3, FALSE) -> 38
A39: 87cb044d-af3c-4f45-8e0b-2d94d8ba9098 | B39: 44242 | C39: cordoba | D39: 59 | E39: 2 | F39: yes | G39: yes | H39: yes | I39: no | J39: no | K39: 153 | L39: --- | M39: 17ee802d-25ab-47b1-841d-051e4066b96c | N39: emmanuel | O39: =IF(D39<>"---", DATE(YEAR(B39), MONTH(B39) - D39, DAY(B39)), "---") -> 42444 | P39: =IF(D39 <= 12, "0_12", IF(D39 >= 25, "25+", "13_25")) -> 25+ | Q39: =IF(E39=2, "f", IF(E39 = 1, "m", "---")) -> f | R39: =IF(J39 <> "---", I39=J39, "---") -> TRUE | S39: =IF(L39 <> "---", ABS(K39-L39) <= 2, "---") -> --- | T39: =VLOOKUP(M39, 'Data - Mother'!$A:$C, 3, FALSE) -> 22
A40: ba3060a4-0271-4f64-93b2-e2e19204cdc2 | B40: 44242 | C40: cordoba | D40: 59 | E40: 2 | F40: yes | G40: yes | H40: yes | I40: no | J40: no | K40: 175 | L40: --- | M40: 7b3e0fc2-f278-4f3f-bc32-0ad0ee87df12 | N40: emmanuel | O40: =IF(D40<>"---", DATE(YEAR(B40), MONTH(B40) - D40, DAY(B40)), "---") -> 42444 | P40: =IF(D40 <= 12, "0_12", IF(D40 >= 25, "25+", "13_25")) -> 25+ | Q40: =IF(E40=2, "f", IF(E40 = 1, "m", "---")) -> f | R40: =IF(J40 <> "---", I40=J40, "---") -> TRUE | S40: =IF(L40 <> "---", ABS(K40-L40) <= 2, "---") -> --- | T40: =VLOOKUP(M40, 'Data - Mother'!$A:$C, 3, FALSE) -> 26
A41: 277f6e08-c0a7-4bd8-a5e9-05c6dfdea251 | B41: 44242 | C41: cordoba | D41: 6 | E41: 1 | F41: yes | G41: yes | H41: no | I41: no | J41: no | K41: 132 | L41: --- | M41: 45f571fa-7099-4802-ae8c-2f901ab20ef9 | N41: emmanuel | O41: =IF(D41<>"---", DATE(YEAR(B41), MONTH(B41) - D41, DAY(B41)), "---") -> 44058 | P41: =IF(D41 <= 12, "0_12", IF(D41 >= 25, "25+", "13_25")) -> 0_12 | Q41: =IF(E41=2, "f", IF(E41 = 1, "m", "---")) -> m | R41: =IF(J41 <> "---", I41=J41, "---") -> TRUE | S41: =IF(L41 <> "---", ABS(K41-L41) <= 2, "---") -> --- | T41: =VLOOKUP(M41, 'Data - Mother'!$A:$C, 3, FALSE) -> 25
A42: c5fa4e81-1e45-41d8-ac00-cecc7bc9fb27 | B42: 44242 | C42: cordoba | D42: 34 | E42: 1 | F42: no | G42: --- | H42: --- | I42: no | J42: no | K42: 151 | L42: --- | M42: 9e27cba3-6e1a-48ff-bcb1-d033b940d754 | N42: emmanuel | O42: =IF(D42<>"---", DATE(YEAR(B42), MONTH(B42) - D42, DAY(B42)), "---") -> 43205 | P42: =IF(D42 <= 12, "0_12", IF(D42 >= 25, "25+", "13_25")) -> 25+ | Q42: =IF(E42=2, "f", IF(E42 = 1, "m", "---")) -> m | R42: =IF(J42 <> "---", I42=J42, "---") -> TRUE | S42: =IF(L42 <> "---", ABS(K42-L42) <= 2, "---") -> --- | T42: =VLOOKUP(M42, 'Data - Mother'!$A:$C, 3, FALSE) -> 37
A43: 76be406c-eb0d-4e04-812b-cd269b179b8f | B43: 44242 | C43: chaco | D43: 6 | E43: 2 | F43: no | G43: --- | H43: --- | I43: no | J43: no | K43: 140 | L43: --- | M43: c335ce87-1468-4016-93c3-83a5d0ae9663 | N43: claudio | O43: =IF(D43<>"---", DATE(YEAR(B43), MONTH(B43) - D43, DAY(B43)), "---") -> 44058 | P43: =IF(D43 <= 12, "0_12", IF(D43 >= 25, "25+", "13_25")) -> 0_12 | Q43: =IF(E43=2, "f", IF(E43 = 1, "m", "---")) -> f | R43: =IF(J43 <> "---", I43=J43, "---") -> TRUE | S43: =IF(L43 <> "---", ABS(K43-L43) <= 2, "---") -> --- | T43: =VLOOKUP(M43, 'Data - Mother'!$A:$C, 3, FALSE) -> 28
A44: 29c26fde-374f-4972-a114-0caa7c6e280b | B44: 44242 | C44: misiones | D44: 30 | E44: 1 | F44: yes | G44: yes | H44: yes | I44: no | J44: yes | K44: 145 | L44: 145 | M44: f6400bbd-83b8-43de-b3d0-e1fc14f57e8a | N44: diego | O44: =IF(D44<>"---", DATE(YEAR(B44), MONTH(B44) - D44, DAY(B44)), "---") -> 43327 | P44: =IF(D44 <= 12, "0_12", IF(D44 >= 25, "25+", "13_25")) -> 25+ | Q44: =IF(E44=2, "f", IF(E44 = 1, "m", "---")) -> m | R44: =IF(J44 <> "---", I44=J44, "---") -> FALSE | S44: =IF(L44 <> "---", ABS(K44-L44) <= 2, "---") -> TRUE | T44: =VLOOKUP(M44, 'Data - Mother'!$A:$C, 3, FALSE) -> 41
A45: 5ea98a14-a107-42e6-ab15-6e9109cd31b0 | B45: 44242 | C45: mendoza | D45: 16 | E45: 1 | F45: yes | G45: yes | H45: no | I45: no | J45: yes | K45: 139 | L45: 139 | M45: 2b454ece-3a95-4951-85dc-7b115bf63c1a | N45: alfredo | O45: =IF(D45<>"---", DATE(YEAR(B45), MONTH(B45) - D45, DAY(B45)), "---") -> 43753 | P45: =IF(D45 <= 12, "0_12", IF(D45 >= 25, "25+", "13_25")) -> 13_25 | Q45: =IF(E45=2, "f", IF(E45 = 1, "m", "---")) -> m | R45: =IF(J45 <> "---", I45=J45, "---") -> FALSE | S45: =IF(L45 <> "---", ABS(K45-L45) <= 2, "---") -> TRUE | T45: =VLOOKUP(M45, 'Data - Mother'!$A:$C, 3, FALSE) -> 26
A46: 0163b5d4-8c3d-4f1b-9289-0027313d6d05 | B46: 44242 | C46: misiones | D46: 48 | E46: 2 | F46: no | G46: --- | H46: --- | I46: no | J46: yes | K46: 157 | L46: 157 | M46: 9f395667-09a0-44c8-8e4e-6606c1a05b73 | N46: diego | O46: =IF(D46<>"---", DATE(YEAR(B46), MONTH(B46) - D46, DAY(B46)), "---") -> 42781 | P46: =IF(D46 <= 12, "0_12", IF(D46 >= 25, "25+", "13_25")) -> 25+ | Q46: =IF(E46=2, "f", IF(E46 = 1, "m", "---")) -> f | R46: =IF(J46 <> "---", I46=J46, "---") -> FALSE | S46: =IF(L46 <> "---", ABS(K46-L46) <= 2, "---") -> TRUE | T46: =VLOOKUP(M46, 'Data - Mother'!$A:$C, 3, FALSE) -> 27
A47: 3bb7ef3d-f6e7-4d6e-a329-77fbeee808be | B47: 44242 | C47: formosa | D47: 23 | E47: 2 | F47: no | G47: --- | H47: --- | I47: no | J47: no | K47: 128 | L47: --- | M47: 8d517721-b9da-418e-acd8-bb37626cf1ba | N47: gabriel | O47: =IF(D47<>"---", DATE(YEAR(B47), MONTH(B47) - D47, DAY(B47)), "---") -> 43539 | P47: =IF(D47 <= 12, "0_12", IF(D47 >= 25, "25+", "13_25")) -> 13_25 | Q47: =IF(E47=2, "f", IF(E47 = 1, "m", "---")) -> f | R47: =IF(J47 <> "---", I47=J47, "---") -> TRUE | S47: =IF(L47 <> "---", ABS(K47-L47) <= 2, "---") -> --- | T47: =VLOOKUP(M47, 'Data - Mother'!$A:$C, 3, FALSE) -> 50
A48: a095b4de-cbf7-4e56-9713-9b5fa8cc5999 | B48: 44242 | C48: chaco | D48: 23 | E48: 2 | F48: no | G48: --- | H48: --- | I48: no | J48: no | K48: 170 | L48: --- | M48: 5ed38c23-5038-430e-836a-8174239d692b | N48: claudio | O48: =IF(D48<>"---", DATE(YEAR(B48), MONTH(B48) - D48, DAY(B48)), "---") -> 43539 | P48: =IF(D48 <= 12, "0_12", IF(D48 >= 25, "25+", "13_25")) -> 13_25 | Q48: =IF(E48=2, "f", IF(E48 = 1, "m", "---")) -> f | R48: =IF(J48 <> "---", I48=J48, "---") -> TRUE | S48: =IF(L48 <> "---", ABS(K48-L48) <= 2, "---") -> --- | T48: =VLOOKUP(M48, 'Data - Mother'!$A:$C, 3, FALSE) -> 26
A49: 8bc2221f-3f6f-4d2a-ba67-72da3a561b3c | B49: 44242 | C49: mendoza | D49: 6 | E49: 2 | F49: yes | G49: yes | H49: no | I49: no | J49: yes | K49: 142 | L49: 142 | M49: 5bd7e74d-6345-490a-ad97-aaceb178685b | N49: alfredo | O49: =IF(D49<>"---", DATE(YEAR(B49), MONTH(B49) - D49, DAY(B49)), "---") -> 44058 | P49: =IF(D49 <= 12, "0_12", IF(D49 >= 25, "25+", "13_25")) -> 0_12 | Q49: =IF(E49=2, "f", IF(E49 = 1, "m", "---")) -> f | R49: =IF(J49 <> "---", I49=J49, "---") -> FALSE | S49: =IF(L49 <> "---", ABS(K49-L49) <= 2, "---") -> TRUE | T49: =VLOOKUP(M49, 'Data - Mother'!$A:$C, 3, FALSE) -> 27
A50: a52c9ac7-bb90-4bcc-a909-a2b357ca90bd | B50: 44243 | C50: chubut | D50: 25 | E50: 2 | F50: yes | G50: yes | H50: yes | I50: no | J50: no | K50: 154 | L50: --- | M50: 33502131-9e7f-4138-af9d-4fb85d45b368 | N50: marcel | O50: =IF(D50<>"---", DATE(YEAR(B50), MONTH(B50) - D50, DAY(B50)), "---") -> 43481 | P50: =IF(D50 <= 12, "0_12", IF(D50 >= 25, "25+", "13_25")) -> 25+ | Q50: =IF(E50=2, "f", IF(E50 = 1, "m", "---")) -> f | R50: =IF(J50 <> "---", I50=J50, "---") -> TRUE | S50: =IF(L50 <> "---", ABS(K50-L50) <= 2, "---") -> --- | T50: =VLOOKUP(M50, 'Data - Mother'!$A:$C, 3, FALSE) -> 29
A51: 0242a385-617c-45a0-8c06-d164c221096a | B51: 44243 | C51: la_rioja | D51: 22 | E51: 2 | F51: no | G51: --- | H51: --- | I51: no | J51: yes | K51: 158 | L51: 158 | M51: b78c74a5-3898-4bc8-9b52-d58e01a50f81 | N51: sergio | O51: =IF(D51<>"---", DATE(YEAR(B51), MONTH(B51) - D51, DAY(B51)), "---") -> 43571 | P51: =IF(D51 <= 12, "0_12", IF(D51 >= 25, "25+", "13_25")) -> 13_25 | Q51: =IF(E51=2, "f", IF(E51 = 1, "m", "---")) -> f | R51: =IF(J51 <> "---", I51=J51, "---") -> FALSE | S51: =IF(L51 <> "---", ABS(K51-L51) <= 2, "---") -> TRUE | T51: =VLOOKUP(M51, 'Data - Mother'!$A:$C, 3, FALSE) -> 27
A52: 63f8c64c-d457-4381-ab6a-5884ece32f9e | B52: 44243 | C52: misiones | D52: 59 | E52: 2 | F52: yes | G52: yes | H52: yes | I52: no | J52: no | K52: 147 | L52: --- | M52: 01f3918f-9a6c-40fd-ba2d-47f08cf49b2b | N52: diego | O52: =IF(D52<>"---", DATE(YEAR(B52), MONTH(B52) - D52, DAY(B52)), "---") -> 42445 | P52: =IF(D52 <= 12, "0_12", IF(D52 >= 25, "25+", "13_25")) -> 25+ | Q52: =IF(E52=2, "f", IF(E52 = 1, "m", "---")) -> f | R52: =IF(J52 <> "---", I52=J52, "---") -> TRUE | S52: =IF(L52 <> "---", ABS(K52-L52) <= 2, "---") -> --- | T52: =VLOOKUP(M52, 'Data - Mother'!$A:$C, 3, FALSE) -> 50
A53: c4fd870a-8001-4eba-9bb0-84c6f07acc15 | B53: 44243 | C53: formosa | D53: 22 | E53: 1 | F53: no | G53: --- | H53: --- | I53: no | J53: no | K53: 146 | L53: --- | M53: 60a1da0c-6899-4491-bf6b-bd4bfb870524 | N53: gabriel | O53: =IF(D53<>"---", DATE(YEAR(B53), MONTH(B53) - D53, DAY(B53)), "---") -> 43571 | P53: =IF(D53 <= 12, "0_12", IF(D53 >= 25, "25+", "13_25")) -> 13_25 | Q53: =IF(E53=2, "f", IF(E53 = 1, "m", "---")) -> m | R53: =IF(J53 <> "---", I53=J53, "---") -> TRUE | S53: =IF(L53 <> "---", ABS(K53-L53) <= 2, "---") -> --- | T53: =VLOOKUP(M53, 'Data - Mother'!$A:$C, 3, FALSE) -> 22
A54: f5b8c42f-1f98-4705-bd72-922370dcc32e | B54: 44243 | C54: entre_rios | D54: 24 | E54: 2 | F54: no | G54: --- | H54: --- | I54: no | J54: no | K54: 142 | L54: --- | M54: 50c31807-47fb-412e-bdd9-116a7d2a27fc | N54: javier | O54: =IF(D54<>"---", DATE(YEAR(B54), MONTH(B54) - D54, DAY(B54)), "---") -> 43512 | P54: =IF(D54 <= 12, "0_12", IF(D54 >= 25, "25+", "13_25")) -> 13_25 | Q54: =IF(E54=2, "f", IF(E54 = 1, "m", "---")) -> f | R54: =IF(J54 <> "---", I54=J54, "---") -> TRUE | S54: =IF(L54 <> "---", ABS(K54-L54) <= 2, "---") -> --- | T54: =VLOOKUP(M54, 'Data - Mother'!$A:$C, 3, FALSE) -> 20
A55: 5acb2655-7659-46dd-844f-26ea9394892d | B55: 44243 | C55: la_rioja | D55: 48 | E55: 1 | F55: no | G55: --- | H55: --- | I55: no | J55: no | K55: 155 | L55: --- | M55: e64aece4-352b-4ff2-815c-44de5ef6e7ff | N55: zinedine | O55: =IF(D55<>"---", DATE(YEAR(B55), MONTH(B55) - D55, DAY(B55)), "---") -> 42782 | P55: =IF(D55 <= 12, "0_12", IF(D55 >= 25, "25+", "13_25")) -> 25+ | Q55: =IF(E55=2, "f", IF(E55 = 1, "m", "---")) -> m | R55: =IF(J55 <> "---", I55=J55, "---") -> TRUE | S55: =IF(L55 <> "---", ABS(K55-L55) <= 2, "---") -> --- | T55: =VLOOKUP(M55, 'Data - Mother'!$A:$C, 3, FALSE) -> 60
A56: d7db1692-3cc6-4363-b271-4e7657d5d3e2 | B56: 44243 | C56: mendoza | D56: 47 | E56: 1 | F56: yes | G56: yes | H56: yes | I56: no | J56: yes | K56: 163 | L56: 163 | M56: e4049804-5587-42f1-9fa3-8354efb38d73 | N56: alfredo | O56: =IF(D56<>"---", DATE(YEAR(B56), MONTH(B56) - D56, DAY(B56)), "---") -> 42810 | P56: =IF(D56 <= 12, "0_12", IF(D56 >= 25, "25+", "13_25")) -> 25+ | Q56: =IF(E56=2, "f", IF(E56 = 1, "m", "---")) -> m | R56: =IF(J56 <> "---", I56=J56, "---") -> FALSE | S56: =IF(L56 <> "---", ABS(K56-L56) <= 2, "---") -> TRUE | T56: =VLOOKUP(M56, 'Data - Mother'!$A:$C, 3, FALSE) -> 18
A57: fe301d37-ac2e-4260-9a20-57a790eaf36e | B57: 44243 | C57: jujuy | D57: 7 | E57: 1 | F57: yes | G57: yes | H57: no | I57: no | J57: no | K57: 130 | L57: --- | M57: d652a5d4-8747-4b1b-8f29-4553cb312a2d | N57: daniel | O57: =IF(D57<>"---", DATE(YEAR(B57), MONTH(B57) - D57, DAY(B57)), "---") -> 44028 | P57: =IF(D57 <= 12, "0_12", IF(D57 >= 25, "25+", "13_25")) -> 0_12 | Q57: =IF(E57=2, "f", IF(E57 = 1, "m", "---")) -> m | R57: =IF(J57 <> "---", I57=J57, "---") -> TRUE | S57: =IF(L57 <> "---", ABS(K57-L57) <= 2, "---") -> --- | T57: =VLOOKUP(M57, 'Data - Mother'!$A:$C, 3, FALSE) -> 22
A58: 29e3b799-31c5-4140-94b6-fba308213022 | B58: 44243 | C58: jujuy | D58: 7 | E58: 1 | F58: yes | G58: yes | H58: no | I58: no | J58: no | K58: 134 | L58: --- | M58: 142dd9a9-92b2-485a-b430-2b2a1194e9fa | N58: daniel | O58: =IF(D58<>"---", DATE(YEAR(B58), MONTH(B58) - D58, DAY(B58)), "---") -> 44028 | P58: =IF(D58 <= 12, "0_12", IF(D58 >= 25, "25+", "13_25")) -> 0_12 | Q58: =IF(E58=2, "f", IF(E58 = 1, "m", "---")) -> m | R58: =IF(J58 <> "---", I58=J58, "---") -> TRUE | S58: =IF(L58 <> "---", ABS(K58-L58) <= 2, "---") -> --- | T58: =VLOOKUP(M58, 'Data - Mother'!$A:$C, 3, FALSE) -> 29
A59: 5959961c-f4ef-4d67-b4df-6bc7b41280bf | B59: 44243 | C59: entre_rios | D59: 48 | E59: 2 | F59: yes | G59: yes | H59: yes | I59: no | J59: no | K59: 161 | L59: --- | M59: 36e17df4-0c3f-4a4d-8241-d68036beca23 | N59: javier | O59: =IF(D59<>"---", DATE(YEAR(B59), MONTH(B59) - D59, DAY(B59)), "---") -> 42782 | P59: =IF(D59 <= 12, "0_12", IF(D59 >= 25, "25+", "13_25")) -> 25+ | Q59: =IF(E59=2, "f", IF(E59 = 1, "m", "---")) -> f | R59: =IF(J59 <> "---", I59=J59, "---") -> TRUE | S59: =IF(L59 <> "---", ABS(K59-L59) <= 2, "---") -> --- | T59: =VLOOKUP(M59, 'Data - Mother'!$A:$C, 3, FALSE) -> 35
A60: 5b617f7c-1e42-4f5b-9cba-9ec34521f82d | B60: 44243 | C60: entre_rios | D60: 7 | E60: 1 | F60: no | G60: --- | H60: --- | I60: no | J60: no | K60: 133 | L60: --- | M60: 36e17df4-0c3f-4a4d-8241-d68036beca23 | N60: javier | O60: =IF(D60<>"---", DATE(YEAR(B60), MONTH(B60) - D60, DAY(B60)), "---") -> 44028 | P60: =IF(D60 <= 12, "0_12", IF(D60 >= 25, "25+", "13_25")) -> 0_12 | Q60: =IF(E60=2, "f", IF(E60 = 1, "m", "---")) -> m | R60: =IF(J60 <> "---", I60=J60, "---") -> TRUE | S60: =IF(L60 <> "---", ABS(K60-L60) <= 2, "---") -> --- | T60: =VLOOKUP(M60, 'Data - Mother'!$A:$C, 3, FALSE) -> 35
A61: f84c4059-becd-4d03-a8a3-7f53a1e89b10 | B61: 44243 | C61: misiones | D61: 36 | E61: 1 | F61: yes | G61: yes | H61: yes | I61: no | J61: no | K61: 143 | L61: --- | M61: e0cee53f-872a-425f-8f03-b6102ed6baab | N61: diego | O61: =IF(D61<>"---", DATE(YEAR(B61), MONTH(B61) - D61, DAY(B61)), "---") -> 43147 | P61: =IF(D61 <= 12, "0_12", IF(D61 >= 25, "25+", "13_25")) -> 25+ | Q61: =IF(E61=2, "f", IF(E61 = 1, "m", "---")) -> m | R61: =IF(J61 <> "---", I61=J61, "---") -> TRUE | S61: =IF(L61 <> "---", ABS(K61-L61) <= 2, "---") -> --- | T61: =VLOOKUP(M61, 'Data - Mother'!$A:$C, 3, FALSE) -> 20
A62: 287475c2-c353-4429-9be3-ec3cdf0fa5a5 | B62: 44243 | C62: misiones | D62: 18 | E62: 2 | F62: no | G62: --- | H62: --- | I62: no | J62: no | K62: 150 | L62: --- | M62: 87c67799-4e5d-47d0-af94-f6815b0d546e | N62: diego | O62: =IF(D62<>"---", DATE(YEAR(B62), MONTH(B62) - D62, DAY(B62)), "---") -> 43693 | P62: =IF(D62 <= 12, "0_12", IF(D62 >= 25, "25+", "13_25")) -> 13_25 | Q62: =IF(E62=2, "f", IF(E62 = 1, "m", "---")) -> f | R62: =IF(J62 <> "---", I62=J62, "---") -> TRUE | S62: =IF(L62 <> "---", ABS(K62-L62) <= 2, "---") -> --- | T62: =VLOOKUP(M62, 'Data - Mother'!$A:$C, 3, FALSE) -> 30
A63: 306ea12a-1630-4666-af4c-ece5a2ad2ae7 | B63: 44243 | C63: chaco | D63: 12 | E63: 2 | F63: no | G63: --- | H63: --- | I63: no | J63: no | K63: 150 | L63: --- | M63: f0fb1894-f4ba-4cb9-991f-4d426c049863 | N63: claudio | O63: =IF(D63<>"---", DATE(YEAR(B63), MONTH(B63) - D63, DAY(B63)), "---") -> 43877 | P63: =IF(D63 <= 12, "0_12", IF(D63 >= 25, "25+", "13_25")) -> 0_12 | Q63: =IF(E63=2, "f", IF(E63 = 1, "m", "---")) -> f | R63: =IF(J63 <> "---", I63=J63, "---") -> TRUE | S63: =IF(L63 <> "---", ABS(K63-L63) <= 2, "---") -> --- | T63: =VLOOKUP(M63, 'Data - Mother'!$A:$C, 3, FALSE) -> 28
A64: a7bdf530-44ba-40bc-8d0c-fac603b61bc8 | B64: 44243 | C64: corrientes | D64: 40 | E64: 1 | F64: no | G64: --- | H64: --- | I64: no | J64: no | K64: 158 | L64: --- | M64: bbb9bd88-3d6c-4cea-9e3f-d873c0ed7418 | N64: mario | O64: =IF(D64<>"---", DATE(YEAR(B64), MONTH(B64) - D64, DAY(B64)), "---") -> 43024 | P64: =IF(D64 <= 12, "0_12", IF(D64 >= 25, "25+", "13_25")) -> 25+ | Q64: =IF(E64=2, "f", IF(E64 = 1, "m", "---")) -> m | R64: =IF(J64 <> "---", I64=J64, "---") -> TRUE | S64: =IF(L64 <> "---", ABS(K64-L64) <= 2, "---") -> --- | T64: =VLOOKUP(M64, 'Data - Mother'!$A:$C, 3, FALSE) -> 75
A65: ed5d5c92-24bd-4224-b841-225b924c6a67 | B65: 44243 | C65: chubut | D65: 24 | E65: 1 | F65: no | G65: --- | H65: --- | I65: no | J65: no | K65: 151 | L65: --- | M65: 4b30d261-1c62-4260-b732-fbe666bf2dac | N65: marcel | O65: =IF(D65<>"---", DATE(YEAR(B65), MONTH(B65) - D65, DAY(B65)), "---") -> 43512 | P65: =IF(D65 <= 12, "0_12", IF(D65 >= 25, "25+", "13_25")) -> 13_25 | Q65: =IF(E65=2, "f", IF(E65 = 1, "m", "---")) -> m | R65: =IF(J65 <> "---", I65=J65, "---") -> TRUE | S65: =IF(L65 <> "---", ABS(K65-L65) <= 2, "---") -> --- | T65: =VLOOKUP(M65, 'Data - Mother'!$A:$C, 3, FALSE) -> 35
A66: d51849c1-60fc-41eb-aec3-b1429f55556b | B66: 44243 | C66: chaco | D66: 8 | E66: 1 | F66: yes | G66: yes | H66: no | I66: no | J66: no | K66: 140 | L66: --- | M66: 2c06ea33-040f-4bf5-b4c6-542cb5f71ddb | N66: claudio | O66: =IF(D66<>"---", DATE(YEAR(B66), MONTH(B66) - D66, DAY(B66)), "---") -> 43998 | P66: =IF(D66 <= 12, "0_12", IF(D66 >= 25, "25+", "13_25")) -> 0_12 | Q66: =IF(E66=2, "f", IF(E66 = 1, "m", "---")) -> m | R66: =IF(J66 <> "---", I66=J66, "---") -> TRUE | S66: =IF(L66 <> "---", ABS(K66-L66) <= 2, "---") -> --- | T66: =VLOOKUP(M66, 'Data - Mother'!$A:$C, 3, FALSE) -> 26
A67: 3acd3689-ccb3-4129-b716-11f636d5d70b | B67: 44243 | C67: corrientes | D67: 20 | E67: 2 | F67: yes | G67: yes | H67: no | I67: no | J67: no | K67: 143 | L67: --- | M67: 8f7534db-68ef-42fc-a1f0-cd33b80a9b07 | N67: mario | O67: =IF(D67<>"---", DATE(YEAR(B67), MONTH(B67) - D67, DAY(B67)), "---") -> 43632 | P67: =IF(D67 <= 12, "0_12", IF(D67 >= 25, "25+", "13_25")) -> 13_25 | Q67: =IF(E67=2, "f", IF(E67 = 1, "m", "---")) -> f | R67: =IF(J67 <> "---", I67=J67, "---") -> TRUE | S67: =IF(L67 <> "---", ABS(K67-L67) <= 2, "---") -> --- | T67: =VLOOKUP(M67, 'Data - Mother'!$A:$C, 3, FALSE) -> 29
A68: 30c62207-1020-476a-a05a-b5444c60a9c0 | B68: 44244 | C68: chubut | D68: 58 | E68: 1 | F68: yes | G68: yes | H68: yes | I68: no | J68: yes | K68: 157 | L68: 157 | M68: cd6de2e4-f79d-4d94-b00a-ed43da5ba635 | N68: daniel | O68: =IF(D68<>"---", DATE(YEAR(B68), MONTH(B68) - D68, DAY(B68)), "---") -> 42477 | P68: =IF(D68 <= 12, "0_12", IF(D68 >= 25, "25+", "13_25")) -> 25+ | Q68: =IF(E68=2, "f", IF(E68 = 1, "m", "---")) -> m | R68: =IF(J68 <> "---", I68=J68, "---") -> FALSE | S68: =IF(L68 <> "---", ABS(K68-L68) <= 2, "---") -> TRUE | T68: =VLOOKUP(M68, 'Data - Mother'!$A:$C, 3, FALSE) -> 26
A69: 9f9ccc47-023e-4a81-a3d3-2abca51d99d4 | B69: 44244 | C69: chubut | D69: 56 | E69: 1 | F69: yes | G69: yes | H69: yes | I69: no | J69: yes | K69: 156 | L69: 156 | M69: 4bc51876-5f4d-4ef2-949a-46a64ddf923e | N69: daniel | O69: =IF(D69<>"---", DATE(YEAR(B69), MONTH(B69) - D69, DAY(B69)), "---") -> 42538 | P69: =IF(D69 <= 12, "0_12", IF(D69 >= 25, "25+", "13_25")) -> 25+ | Q69: =IF(E69=2, "f", IF(E69 = 1, "m", "---")) -> m | R69: =IF(J69 <> "---", I69=J69, "---") -> FALSE | S69: =IF(L69 <> "---", ABS(K69-L69) <= 2, "---") -> TRUE | T69: =VLOOKUP(M69, 'Data - Mother'!$A:$C, 3, FALSE) -> 38
A70: 712307c9-d3df-4183-8e37-436d5208f1b9 | B70: 44244 | C70: chubut | D70: 47 | E70: 1 | F70: yes | G70: yes | H70: yes | I70: no | J70: yes | K70: 162 | L70: 163 | M70: a2821597-401d-4daa-90c4-cd4b148c002b | N70: daniel | O70: =IF(D70<>"---", DATE(YEAR(B70), MONTH(B70) - D70, DAY(B70)), "---") -> 42811 | P70: =IF(D70 <= 12, "0_12", IF(D70 >= 25, "25+", "13_25")) -> 25+ | Q70: =IF(E70=2, "f", IF(E70 = 1, "m", "---")) -> m | R70: =IF(J70 <> "---", I70=J70, "---") -> FALSE | S70: =IF(L70 <> "---", ABS(K70-L70) <= 2, "---") -> TRUE | T70: =VLOOKUP(M70, 'Data - Mother'!$A:$C, 3, FALSE) -> 31
A71: d5b38020-7ad6-407a-8380-806d12451ed8 | B71: 44244 | C71: chubut | D71: 10 | E71: 2 | F71: no | G71: --- | H71: --- | I71: no | J71: yes | K71: 128 | L71: 128 | M71: 23ab690f-1a4f-4ad9-b87b-232dddb2c2c6 | N71: daniel | O71: =IF(D71<>"---", DATE(YEAR(B71), MONTH(B71) - D71, DAY(B71)), "---") -> 43938 | P71: =IF(D71 <= 12, "0_12", IF(D71 >= 25, "25+", "13_25")) -> 0_12 | Q71: =IF(E71=2, "f", IF(E71 = 1, "m", "---")) -> f | R71: =IF(J71 <> "---", I71=J71, "---") -> FALSE | S71: =IF(L71 <> "---", ABS(K71-L71) <= 2, "---") -> TRUE | T71: =VLOOKUP(M71, 'Data - Mother'!$A:$C, 3, FALSE) -> 38
A72: be761399-7d1d-48a5-a128-e00c91d4bbc8 | B72: 44244 | C72: chubut | D72: 22 | E72: 2 | F72: no | G72: --- | H72: --- | I72: no | J72: yes | K72: 144 | L72: 144 | M72: 0dc6b560-aaee-480e-9f87-6a49077c0840 | N72: daniel | O72: =IF(D72<>"---", DATE(YEAR(B72), MONTH(B72) - D72, DAY(B72)), "---") -> 43572 | P72: =IF(D72 <= 12, "0_12", IF(D72 >= 25, "25+", "13_25")) -> 13_25 | Q72: =IF(E72=2, "f", IF(E72 = 1, "m", "---")) -> f | R72: =IF(J72 <> "---", I72=J72, "---") -> FALSE | S72: =IF(L72 <> "---", ABS(K72-L72) <= 2, "---") -> TRUE | T72: =VLOOKUP(M72, 'Data - Mother'!$A:$C, 3, FALSE) -> 23
A73: 8f6483d2-15af-4148-b913-22b21c1a9d54 | B73: 44244 | C73: chubut | D73: 35 | E73: 2 | F73: yes | G73: yes | H73: yes | I73: no | J73: yes | K73: 160 | L73: 160 | M73: 699c5af4-49c9-4511-98b8-d296fd67511d | N73: daniel | O73: =IF(D73<>"---", DATE(YEAR(B73), MONTH(B73) - D73, DAY(B73)), "---") -> 43176 | P73: =IF(D73 <= 12, "0_12", IF(D73 >= 25, "25+", "13_25")) -> 25+ | Q73: =IF(E73=2, "f", IF(E73 = 1, "m", "---")) -> f | R73: =IF(J73 <> "---", I73=J73, "---") -> FALSE | S73: =IF(L73 <> "---", ABS(K73-L73) <= 2, "---") -> TRUE | T73: =VLOOKUP(M73, 'Data - Mother'!$A:$C, 3, FALSE) -> 28
A74: 6fbacbb4-32f9-4460-854b-e5d5f9970306 | B74: 44229 | C74: catamarca | D74: 34 | E74: 2 | F74: yes | G74: yes | H74: yes | I74: no | J74: no | K74: 126 | L74: --- | M74: 21370bdd-f420-43f1-94fb-5f3280fc1248 | N74: fabien | O74: =IF(D74<>"---", DATE(YEAR(B74), MONTH(B74) - D74, DAY(B74)), "---") -> 43192 | P74: =IF(D74 <= 12, "0_12", IF(D74 >= 25, "25+", "13_25")) -> 25+ | Q74: =IF(E74=2, "f", IF(E74 = 1, "m", "---")) -> f | R74: =IF(J74 <> "---", I74=J74, "---") -> TRUE | S74: =IF(L74 <> "---", ABS(K74-L74) <= 2, "---") -> --- | T74: =VLOOKUP(M74, 'Data - Mother'!$A:$C, 3, FALSE) -> 43
A75: 598ad98c-b3d3-430a-87bc-a78acc691991 | B75: 44229 | C75: catamarca | D75: 41 | E75: 2 | F75: yes | G75: yes | H75: yes | I75: no | J75: no | K75: 115 | L75: --- | M75: 2052e213-8c4f-45d6-b6fe-84084ff492de | N75: patrice | O75: =IF(D75<>"---", DATE(YEAR(B75), MONTH(B75) - D75, DAY(B75)), "---") -> 42980 | P75: =IF(D75 <= 12, "0_12", IF(D75 >= 25, "25+", "13_25")) -> 25+ | Q75: =IF(E75=2, "f", IF(E75 = 1, "m", "---")) -> f | R75: =IF(J75 <> "---", I75=J75, "---") -> TRUE | S75: =IF(L75 <> "---", ABS(K75-L75) <= 2, "---") -> --- | T75: =VLOOKUP(M75, 'Data - Mother'!$A:$C, 3, FALSE) -> 28
A76: 3d7933cf-6945-4451-b5f1-94ec1c0c4e35 | B76: 44229 | C76: corrientes | D76: 18 | E76: 1 | F76: yes | G76: yes | H76: yes | I76: no | J76: yes | K76: 120 | L76: 121 | M76: 45b63bb9-2913-4614-b47a-b3bcf2596fe5 | N76: mario | O76: =IF(D76<>"---", DATE(YEAR(B76), MONTH(B76) - D76, DAY(B76)), "---") -> 43679 | P76: =IF(D76 <= 12, "0_12", IF(D76 >= 25, "25+", "13_25")) -> 13_25 | Q76: =IF(E76=2, "f", IF(E76 = 1, "m", "---")) -> m | R76: =IF(J76 <> "---", I76=J76, "---") -> FALSE | S76: =IF(L76 <> "---", ABS(K76-L76) <= 2, "---") -> TRUE | T76: =VLOOKUP(M76, 'Data - Mother'!$A:$C, 3, FALSE) -> 19
A77: 9ea89449-04af-4c0f-b804-c3f6d8268078 | B77: 44229 | C77: cordoba | D77: --- | E77: --- | F77: --- | G77: --- | H77: --- | I77: --- | J77: --- | K77: --- | L77: --- | M77: a34b7f57-1a47-4022-9fe8-441ea47e27c6 | N77: marcel | O77: =IF(D77<>"---", DATE(YEAR(B77), MONTH(B77) - D77, DAY(B77)), "---") -> --- | P77: =IF(D77 <= 12, "0_12", IF(D77 >= 25, "25+", "13_25")) -> 25+ | Q77: =IF(E77=2, "f", IF(E77 = 1, "m", "---")) -> --- | R77: =IF(J77 <> "---", I77=J77, "---") -> --- | S77: =IF(L77 <> "---", ABS(K77-L77) <= 2, "---") -> --- | T77: =VLOOKUP(M77, 'Data - Mother'!$A:$C, 3, FALSE) -> 89
A78: 43c5bec8-b2d9-4027-8667-5ccd55cfbac5 | B78: 44229 | C78: chaco | D78: 9 | E78: 1 | F78: yes | G78: yes | H78: no | I78: no | J78: no | K78: 114 | L78: 118 | M78: 6d7bc2b9-79c8-4963-9773-c9eefed5a470 | N78: claudio | O78: =IF(D78<>"---", DATE(YEAR(B78), MONTH(B78) - D78, DAY(B78)), "---") -> 43953 | P78: =IF(D78 <= 12, "0_12", IF(D78 >= 25, "25+", "13_25")) -> 0_12 | Q78: =IF(E78=2, "f", IF(E78 = 1, "m", "---")) -> m | R78: =IF(J78 <> "---", I78=J78, "---") -> TRUE | S78: =IF(L78 <> "---", ABS(K78-L78) <= 2, "---") -> FALSE | T78: =VLOOKUP(M78, 'Data - Mother'!$A:$C, 3, FALSE) -> 28
A79: 98791cbe-a6e4-40b4-b944-97239b23cabf | B79: 44229 | C79: chubut | D79: 36 | E79: 1 | F79: yes | G79: yes | H79: yes | I79: no | J79: no | K79: 127 | L79: --- | M79: d30260ee-4407-40c1-8955-fff14582a200 | N79: sergio | O79: =IF(D79<>"---", DATE(YEAR(B79), MONTH(B79) - D79, DAY(B79)), "---") -> 43133 | P79: =IF(D79 <= 12, "0_12", IF(D79 >= 25, "25+", "13_25")) -> 25+ | Q79: =IF(E79=2, "f", IF(E79 = 1, "m", "---")) -> m | R79: =IF(J79 <> "---", I79=J79, "---") -> TRUE | S79: =IF(L79 <> "---", ABS(K79-L79) <= 2, "---") -> --- | T79: =VLOOKUP(M79, 'Data - Mother'!$A:$C, 3, FALSE) -> 29
A80: 3c1855a8-2912-414e-b1af-ebe54a118fb8 | B80: 44229 | C80: corrientes | D80: 36 | E80: 2 | F80: yes | G80: yes | H80: yes | I80: no | J80: yes | K80: 136 | L80: 134 | M80: 5b3eb58d-fad6-414a-b17e-d5b4d8b6dd4f | N80: mario | O80: =IF(D80<>"---", DATE(YEAR(B80), MONTH(B80) - D80, DAY(B80)), "---") -> 43133 | P80: =IF(D80 <= 12, "0_12", IF(D80 >= 25, "25+", "13_25")) -> 25+ | Q80: =IF(E80=2, "f", IF(E80 = 1, "m", "---")) -> f | R80: =IF(J80 <> "---", I80=J80, "---") -> FALSE | S80: =IF(L80 <> "---", ABS(K80-L80) <= 2, "---") -> TRUE | T80: =VLOOKUP(M80, 'Data - Mother'!$A:$C, 3, FALSE) -> 28
A81: dc5ab125-99f1-47e3-b4f6-cd2da1f17c56 | B81: 44229 | C81: la_rioja | D81: 28 | E81: 2 | F81: no | G81: --- | H81: --- | I81: no | J81: no | K81: 128 | L81: --- | M81: c930bc1d-ebe0-4d5a-bf25-8ce44026ba88 | N81: zinedine | O81: =IF(D81<>"---", DATE(YEAR(B81), MONTH(B81) - D81, DAY(B81)), "---") -> 43375 | P81: =IF(D81 <= 12, "0_12", IF(D81 >= 25, "25+", "13_25")) -> 25+ | Q81: =IF(E81=2, "f", IF(E81 = 1, "m", "---")) -> f | R81: =IF(J81 <> "---", I81=J81, "---") -> TRUE | S81: =IF(L81 <> "---", ABS(K81-L81) <= 2, "---") -> --- | T81: =VLOOKUP(M81, 'Data - Mother'!$A:$C, 3, FALSE) -> 35
A82: 200600c6-4a54-4e07-bbf3-8feecdb4c324 | B82: 44229 | C82: cordoba | D82: 36 | E82: 1 | F82: yes | G82: yes | H82: yes | I82: no | J82: no | K82: 127 | L82: --- | M82: 4fb11af1-b2d3-465c-b498-1453e930f099 | N82: marcel | O82: =IF(D82<>"---", DATE(YEAR(B82), MONTH(B82) - D82, DAY(B82)), "---") -> 43133 | P82: =IF(D82 <= 12, "0_12", IF(D82 >= 25, "25+", "13_25")) -> 25+ | Q82: =IF(E82=2, "f", IF(E82 = 1, "m", "---")) -> m | R82: =IF(J82 <> "---", I82=J82, "---") -> TRUE | S82: =IF(L82 <> "---", ABS(K82-L82) <= 2, "---") -> --- | T82: =VLOOKUP(M82, 'Data - Mother'!$A:$C, 3, FALSE) -> 33
A83: 9465d6c9-b811-48f8-b90b-938695f0153e | B83: 44229 | C83: chubut | D83: 18 | E83: 1 | F83: yes | G83: yes | H83: yes | I83: no | J83: no | K83: 130 | L83: 129 | M83: 2305d9a1-0cc2-41ed-b239-9fd570c681dd | N83: sergio | O83: =IF(D83<>"---", DATE(YEAR(B83), MONTH(B83) - D83, DAY(B83)), "---") -> 43679 | P83: =IF(D83 <= 12, "0_12", IF(D83 >= 25, "25+", "13_25")) -> 13_25 | Q83: =IF(E83=2, "f", IF(E83 = 1, "m", "---")) -> m | R83: =IF(J83 <> "---", I83=J83, "---") -> TRUE | S83: =IF(L83 <> "---", ABS(K83-L83) <= 2, "---") -> TRUE | T83: =VLOOKUP(M83, 'Data - Mother'!$A:$C, 3, FALSE) -> 45
A84: 57fc03fc-ccb4-4f25-bb17-a8d3affe63ce | B84: 44229 | C84: mendoza | D84: 6 | E84: 1 | F84: yes | G84: yes | H84: no | I84: no | J84: no | K84: 126 | L84: --- | M84: 89c37bb3-9e92-43ae-8fea-3e1d9f516f1b | N84: alfredo | O84: =IF(D84<>"---", DATE(YEAR(B84), MONTH(B84) - D84, DAY(B84)), "---") -> 44045 | P84: =IF(D84 <= 12, "0_12", IF(D84 >= 25, "25+", "13_25")) -> 0_12 | Q84: =IF(E84=2, "f", IF(E84 = 1, "m", "---")) -> m | R84: =IF(J84 <> "---", I84=J84, "---") -> TRUE | S84: =IF(L84 <> "---", ABS(K84-L84) <= 2, "---") -> --- | T84: =VLOOKUP(M84, 'Data - Mother'!$A:$C, 3, FALSE) -> 29
A85: 494acde3-cb90-4517-b8aa-2f04a6f256d9 | B85: 44229 | C85: chubut | D85: 22 | E85: 2 | F85: yes | G85: yes | H85: yes | I85: no | J85: yes | K85: 127 | L85: 128 | M85: 7de0ae23-913f-40f6-b5e5-dfea0b3cb839 | N85: sergio | O85: =IF(D85<>"---", DATE(YEAR(B85), MONTH(B85) - D85, DAY(B85)), "---") -> 43557 | P85: =IF(D85 <= 12, "0_12", IF(D85 >= 25, "25+", "13_25")) -> 13_25 | Q85: =IF(E85=2, "f", IF(E85 = 1, "m", "---")) -> f | R85: =IF(J85 <> "---", I85=J85, "---") -> FALSE | S85: =IF(L85 <> "---", ABS(K85-L85) <= 2, "---") -> TRUE | T85: =VLOOKUP(M85, 'Data - Mother'!$A:$C, 3, FALSE) -> 42
A86: a910c872-c2b8-420a-98d7-4e9f4473d0b0 | B86: 44229 | C86: cordoba | D86: 24 | E86: 2 | F86: yes | G86: yes | H86: yes | I86: no | J86: no | K86: 122 | L86: 119 | M86: a7a372ec-6cf0-4bcc-92fa-9ba57a1de618 | N86: emmanuel | O86: =IF(D86<>"---", DATE(YEAR(B86), MONTH(B86) - D86, DAY(B86)), "---") -> 43498 | P86: =IF(D86 <= 12, "0_12", IF(D86 >= 25, "25+", "13_25")) -> 13_25 | Q86: =IF(E86=2, "f", IF(E86 = 1, "m", "---")) -> f | R86: =IF(J86 <> "---", I86=J86, "---") -> TRUE | S86: =IF(L86 <> "---", ABS(K86-L86) <= 2, "---") -> FALSE | T86: =VLOOKUP(M86, 'Data - Mother'!$A:$C, 3, FALSE) -> 22
A87: 6c2f2d02-e1ae-46a7-a367-0dc6112cb83f | B87: 44229 | C87: mendoza | D87: 13 | E87: 1 | F87: yes | G87: yes | H87: yes | I87: no | J87: yes | K87: 116 | L87: 117 | M87: 879863f1-574e-4553-837a-0b1f5009e6fe | N87: alfredo | O87: =IF(D87<>"---", DATE(YEAR(B87), MONTH(B87) - D87, DAY(B87)), "---") -> 43832 | P87: =IF(D87 <= 12, "0_12", IF(D87 >= 25, "25+", "13_25")) -> 13_25 | Q87: =IF(E87=2, "f", IF(E87 = 1, "m", "---")) -> m | R87: =IF(J87 <> "---", I87=J87, "---") -> FALSE | S87: =IF(L87 <> "---", ABS(K87-L87) <= 2, "---") -> TRUE | T87: =VLOOKUP(M87, 'Data - Mother'!$A:$C, 3, FALSE) -> 19
A88: 38bc89ef-2095-43e5-a3b2-f2f7f6b36654 | B88: 44229 | C88: jujuy | D88: 36 | E88: 1 | F88: no | G88: --- | H88: --- | I88: no | J88: yes | K88: 145 | L88: --- | M88: b57c8df2-0419-4c87-8e24-4df30607fcdf | N88: daniel | O88: =IF(D88<>"---", DATE(YEAR(B88), MONTH(B88) - D88, DAY(B88)), "---") -> 43133 | P88: =IF(D88 <= 12, "0_12", IF(D88 >= 25, "25+", "13_25")) -> 25+ | Q88: =IF(E88=2, "f", IF(E88 = 1, "m", "---")) -> m | R88: =IF(J88 <> "---", I88=J88, "---") -> FALSE | S88: =IF(L88 <> "---", ABS(K88-L88) <= 2, "---") -> --- | T88: =VLOOKUP(M88, 'Data - Mother'!$A:$C, 3, FALSE) -> 26
A89: cbb76c9f-a574-4084-a1eb-4732ea9c3b42 | B89: 44229 | C89: corrientes | D89: --- | E89: --- | F89: --- | G89: --- | H89: --- | I89: --- | J89: --- | K89: --- | L89: --- | M89: 5b3eb58d-fad6-414a-b17e-d5b4d8b6dd4f | N89: mario | O89: =IF(D89<>"---", DATE(YEAR(B89), MONTH(B89) - D89, DAY(B89)), "---") -> --- | P89: =IF(D89 <= 12, "0_12", IF(D89 >= 25, "25+", "13_25")) -> 25+ | Q89: =IF(E89=2, "f", IF(E89 = 1, "m", "---")) -> --- | R89: =IF(J89 <> "---", I89=J89, "---") -> --- | S89: =IF(L89 <> "---", ABS(K89-L89) <= 2, "---") -> --- | T89: =VLOOKUP(M89, 'Data - Mother'!$A:$C, 3, FALSE) -> 28
A90: efe8d15e-6495-4ca4-bae5-89eafa00eae3 | B90: 44229 | C90: formosa | D90: 12 | E90: 2 | F90: yes | G90: yes | H90: yes | I90: no | J90: no | K90: 121 | L90: --- | M90: 09b5309b-db4f-445f-8268-b111da033693 | N90: gabriel | O90: =IF(D90<>"---", DATE(YEAR(B90), MONTH(B90) - D90, DAY(B90)), "---") -> 43863 | P90: =IF(D90 <= 12, "0_12", IF(D90 >= 25, "25+", "13_25")) -> 0_12 | Q90: =IF(E90=2, "f", IF(E90 = 1, "m", "---")) -> f | R90: =IF(J90 <> "---", I90=J90, "---") -> TRUE | S90: =IF(L90 <> "---", ABS(K90-L90) <= 2, "---") -> --- | T90: =VLOOKUP(M90, 'Data - Mother'!$A:$C, 3, FALSE) -> 20
A91: 654609b7-bf2d-4712-a754-41963beb0333 | B91: 44229 | C91: formosa | D91: 6 | E91: 2 | F91: yes | G91: yes | H91: no | I91: yes | J91: yes | K91: 124 | L91: 124 | M91: 54a76e6a-b984-4be0-8820-5bd5922b8017 | N91: gabriel | O91: =IF(D91<>"---", DATE(YEAR(B91), MONTH(B91) - D91, DAY(B91)), "---") -> 44045 | P91: =IF(D91 <= 12, "0_12", IF(D91 >= 25, "25+", "13_25")) -> 0_12 | Q91: =IF(E91=2, "f", IF(E91 = 1, "m", "---")) -> f | R91: =IF(J91 <> "---", I91=J91, "---") -> TRUE | S91: =IF(L91 <> "---", ABS(K91-L91) <= 2, "---") -> TRUE | T91: =VLOOKUP(M91, 'Data - Mother'!$A:$C, 3, FALSE) -> 15
A92: ceff8fc1-0695-496f-82d8-9cfea36c9351 | B92: 44229 | C92: la_rioja | D92: 11 | E92: 1 | F92: yes | G92: yes | H92: yes | I92: yes | J92: yes | K92: 124 | L92: 123 | M92: da46012b-3505-46d4-b495-0ea0753c1448 | N92: zinedine | O92: =IF(D92<>"---", DATE(YEAR(B92), MONTH(B92) - D92, DAY(B92)), "---") -> 43892 | P92: =IF(D92 <= 12, "0_12", IF(D92 >= 25, "25+", "13_25")) -> 0_12 | Q92: =IF(E92=2, "f", IF(E92 = 1, "m", "---")) -> m | R92: =IF(J92 <> "---", I92=J92, "---") -> TRUE | S92: =IF(L92 <> "---", ABS(K92-L92) <= 2, "---") -> TRUE | T92: =VLOOKUP(M92, 'Data - Mother'!$A:$C, 3, FALSE) -> 41
A93: 89740154-381f-4c8f-be61-19f21b1975b4 | B93: 44229 | C93: cordoba | D93: 16 | E93: 2 | F93: no | G93: --- | H93: --- | I93: no | J93: no | K93: 127 | L93: --- | M93: 16570ea9-7337-49c2-872b-abeedf6ac076 | N93: marcel | O93: =IF(D93<>"---", DATE(YEAR(B93), MONTH(B93) - D93, DAY(B93)), "---") -> 43740 | P93: =IF(D93 <= 12, "0_12", IF(D93 >= 25, "25+", "13_25")) -> 13_25 | Q93: =IF(E93=2, "f", IF(E93 = 1, "m", "---")) -> f | R93: =IF(J93 <> "---", I93=J93, "---") -> TRUE | S93: =IF(L93 <> "---", ABS(K93-L93) <= 2, "---") -> --- | T93: =VLOOKUP(M93, 'Data - Mother'!$A:$C, 3, FALSE) -> 65
A94: 58cc342c-6f69-486c-ac8a-86e9df8a6a2d | B94: 44229 | C94: la_rioja | D94: 15 | E94: 1 | F94: yes | G94: yes | H94: yes | I94: no | J94: yes | K94: 128 | L94: 127 | M94: 0808826e-d627-4b5c-b143-b91471c725a4 | N94: zinedine | O94: =IF(D94<>"---", DATE(YEAR(B94), MONTH(B94) - D94, DAY(B94)), "---") -> 43771 | P94: =IF(D94 <= 12, "0_12", IF(D94 >= 25, "25+", "13_25")) -> 13_25 | Q94: =IF(E94=2, "f", IF(E94 = 1, "m", "---")) -> m | R94: =IF(J94 <> "---", I94=J94, "---") -> FALSE | S94: =IF(L94 <> "---", ABS(K94-L94) <= 2, "---") -> TRUE | T94: =VLOOKUP(M94, 'Data - Mother'!$A:$C, 3, FALSE) -> 38
A95: a0d1e6d6-63cf-4bd2-ae3e-08dabfac3031 | B95: 44229 | C95: corrientes | D95: --- | E95: --- | F95: --- | G95: --- | H95: --- | I95: --- | J95: --- | K95: --- | L95: --- | M95: 5b3eb58d-fad6-414a-b17e-d5b4d8b6dd4f | N95: mario | O95: =IF(D95<>"---", DATE(YEAR(B95), MONTH(B95) - D95, DAY(B95)), "---") -> --- | P95: =IF(D95 <= 12, "0_12", IF(D95 >= 25, "25+", "13_25")) -> 25+ | Q95: =IF(E95=2, "f", IF(E95 = 1, "m", "---")) -> --- | R95: =IF(J95 <> "---", I95=J95, "---") -> --- | S95: =IF(L95 <> "---", ABS(K95-L95) <= 2, "---") -> --- | T95: =VLOOKUP(M95, 'Data - Mother'!$A:$C, 3, FALSE) -> 28
A96: 6ac76e91-4555-4a71-9e74-5c385cc0ea07 | B96: 44229 | C96: la_rioja | D96: 25 | E96: 1 | F96: yes | G96: yes | H96: yes | I96: yes | J96: yes | K96: 129 | L96: 130 | M96: 90dc8300-6a53-4ca4-9482-1586cd9d0402 | N96: zinedine | O96: =IF(D96<>"---", DATE(YEAR(B96), MONTH(B96) - D96, DAY(B96)), "---") -> 43467 | P96: =IF(D96 <= 12, "0_12", IF(D96 >= 25, "25+", "13_25")) -> 25+ | Q96: =IF(E96=2, "f", IF(E96 = 1, "m", "---")) -> m | R96: =IF(J96 <> "---", I96=J96, "---") -> TRUE | S96: =IF(L96 <> "---", ABS(K96-L96) <= 2, "---") -> TRUE | T96: =VLOOKUP(M96, 'Data - Mother'!$A:$C, 3, FALSE) -> 51
A97: a366d418-d2f2-4187-a782-4dbce6e8642a | B97: 44229 | C97: chubut | D97: 12 | E97: 2 | F97: yes | G97: yes | H97: yes | I97: no | J97: no | K97: 127 | L97: --- | M97: 44f182ab-723b-468f-8da8-a581dbc2863f | N97: sergio | O97: =IF(D97<>"---", DATE(YEAR(B97), MONTH(B97) - D97, DAY(B97)), "---") -> 43863 | P97: =IF(D97 <= 12, "0_12", IF(D97 >= 25, "25+", "13_25")) -> 0_12 | Q97: =IF(E97=2, "f", IF(E97 = 1, "m", "---")) -> f | R97: =IF(J97 <> "---", I97=J97, "---") -> TRUE | S97: =IF(L97 <> "---", ABS(K97-L97) <= 2, "---") -> --- | T97: =VLOOKUP(M97, 'Data - Mother'!$A:$C, 3, FALSE) -> 65
A98: 1f370942-1d1e-4290-951c-564dd0c5348e | B98: 44229 | C98: mendoza | D98: 8 | E98: 1 | F98: yes | G98: yes | H98: no | I98: no | J98: no | K98: 127 | L98: --- | M98: 7ca3796e-96a0-4b8f-9233-22dfebf7f498 | N98: alfredo | O98: =IF(D98<>"---", DATE(YEAR(B98), MONTH(B98) - D98, DAY(B98)), "---") -> 43984 | P98: =IF(D98 <= 12, "0_12", IF(D98 >= 25, "25+", "13_25")) -> 0_12 | Q98: =IF(E98=2, "f", IF(E98 = 1, "m", "---")) -> m | R98: =IF(J98 <> "---", I98=J98, "---") -> TRUE | S98: =IF(L98 <> "---", ABS(K98-L98) <= 2, "---") -> --- | T98: =VLOOKUP(M98, 'Data - Mother'!$A:$C, 3, FALSE) -> 48
A99: ed3ec039-f550-44d3-b604-9943f16d1916 | B99: 44229 | C99: catamarca | D99: 25 | E99: 2 | F99: yes | G99: yes | H99: yes | I99: no | J99: yes | K99: 126 | L99: 125 | M99: e5b5cf1b-29a5-4986-b097-85f233e6f04c | N99: fabien | O99: =IF(D99<>"---", DATE(YEAR(B99), MONTH(B99) - D99, DAY(B99)), "---") -> 43467 | P99: =IF(D99 <= 12, "0_12", IF(D99 >= 25, "25+", "13_25")) -> 25+ | Q99: =IF(E99=2, "f", IF(E99 = 1, "m", "---")) -> f | R99: =IF(J99 <> "---", I99=J99, "---") -> FALSE | S99: =IF(L99 <> "---", ABS(K99-L99) <= 2, "---") -> TRUE | T99: =VLOOKUP(M99, 'Data - Mother'!$A:$C, 3, FALSE) -> 36
A100: 2274d5ca-a496-437c-84b7-23b7525bda1a | B100: 44229 | C100: catamarca | D100: 12 | E100: 1 | F100: no | G100: --- | H100: --- | I100: no | J100: no | K100: 123 | L100: --- | M100: 687d7b7d-d9f8-4523-a460-59498d5bd297 | N100: patrice | O100: =IF(D100<>"---", DATE(YEAR(B100), MONTH(B100) - D100, DAY(B100)), "---") -> 43863 | P100: =IF(D100 <= 12, "0_12", IF(D100 >= 25, "25+", "13_25")) -> 0_12 | Q100: =IF(E100=2, "f", IF(E100 = 1, "m", "---")) -> m | R100: =IF(J100 <> "---", I100=J100, "---") -> TRUE | S100: =IF(L100 <> "---", ABS(K100-L100) <= 2, "---") -> --- | T100: =VLOOKUP(M100, 'Data - Mother'!$A:$C, 3, FALSE) -> 68
...

Sheet Data - Mother
A1: id | B1: date_survey | C1: age | D1: muac_training | E1: muac_tape_present | F1: muac_tape_state | G1: muac_use_frequency | H1: muac_use_frequency_n_answers
A2: 09e0e185-935f-4c43-95a6-16648fbe2a74 | B2: 44243 | C2: 22 | D2: no | E2: --- | F2: --- | G2: --- | H2: =IF(G2 <> "---", LEN(G2) - LEN(SUBSTITUTE(G2, " ", "")) + 1, 0) -> 0
A3: 6a879563-2a72-404f-9570-70c8c2db0721 | B3: 44243 | C3: 28 | D3: no | E3: --- | F3: --- | G3: --- | H3: =IF(G3 <> "---", LEN(G3) - LEN(SUBSTITUTE(G3, " ", "")) + 1, 0) -> 0
A4: 254e7213-959e-4c17-b9c8-2adf4a90b4ad | B4: 44243 | C4: 26 | D4: yes | E4: yes | F4: bad | G4: sometimes | H4: =IF(G4 <> "---", LEN(G4) - LEN(SUBSTITUTE(G4, " ", "")) + 1, 0) -> 1
A5: 4cfeda5d-a038-4473-83a0-55c9591a1698 | B5: 44243 | C5: 21 | D5: no | E5: --- | F5: --- | G5: --- | H5: =IF(G5 <> "---", LEN(G5) - LEN(SUBSTITUTE(G5, " ", "")) + 1, 0) -> 0
A6: a1d03590-3138-4336-95df-1eddc105dd8f | B6: 44243 | C6: 15 | D6: yes | E6: yes | F6: good | G6: every_two_weeks sometimes | H6: =IF(G6 <> "---", LEN(G6) - LEN(SUBSTITUTE(G6, " ", "")) + 1, 0) -> 2
A7: c7261cb0-e825-4ad2-aab2-342396282b2c | B7: 44243 | C7: 18 | D7: yes | E7: no | F7: --- | G7: --- | H7: =IF(G7 <> "---", LEN(G7) - LEN(SUBSTITUTE(G7, " ", "")) + 1, 0) -> 0
A8: d68670ba-97a3-4457-b70f-c36da546714a | B8: 44242 | C8: 28 | D8: yes | E8: yes | F8: good | G8: sometimes | H8: =IF(G8 <> "---", LEN(G8) - LEN(SUBSTITUTE(G8, " ", "")) + 1, 0) -> 1
A9: 09e43130-27ef-47bc-aaa5-9c43220c3634 | B9: 44242 | C9: 25 | D9: yes | E9: yes | F9: good | G9: sometimes | H9: =IF(G9 <> "---", LEN(G9) - LEN(SUBSTITUTE(G9, " ", "")) + 1, 0) -> 1
A10: 4d73c94b-28da-4661-a42f-13d66e82cd59 | B10: 44242 | C10: 28 | D10: yes | E10: yes | F10: good | G10: sometimes | H10: =IF(G10 <> "---", LEN(G10) - LEN(SUBSTITUTE(G10, " ", "")) + 1, 0) -> 1
A11: c83c6de7-a885-4c9f-9b6d-391fef9df02c | B11: 44242 | C11: 29 | D11: yes | E11: yes | F11: good | G11: never | H11: =IF(G11 <> "---", LEN(G11) - LEN(SUBSTITUTE(G11, " ", "")) + 1, 0) -> 1
A12: ccbdb9cc-57a6-467b-abb5-ee4f53d21656 | B12: 44242 | C12: --- | D12: --- | E12: --- | F12: --- | G12: --- | H12: =IF(G12 <> "---", LEN(G12) - LEN(SUBSTITUTE(G12, " ", "")) + 1, 0) -> 0
A13: e54c6216-5a8b-4e47-8570-cf1bc734ca11 | B13: 44242 | C13: 30 | D13: no | E13: --- | F13: --- | G13: --- | H13: =IF(G13 <> "---", LEN(G13) - LEN(SUBSTITUTE(G13, " ", "")) + 1, 0) -> 0
A14: eed536aa-cad0-459a-9329-cf4c06be5122 | B14: 44242 | C14: 36 | D14: yes | E14: yes | F14: good | G14: never | H14: =IF(G14 <> "---", LEN(G14) - LEN(SUBSTITUTE(G14, " ", "")) + 1, 0) -> 1
A15: 6047eb4d-2956-4295-9ac8-8c682c92413d | B15: 44242 | C15: 19 | D15: no | E15: --- | F15: --- | G15: --- | H15: =IF(G15 <> "---", LEN(G15) - LEN(SUBSTITUTE(G15, " ", "")) + 1, 0) -> 0
A16: 22c1b46d-e70c-4635-a289-e4a550db1fd2 | B16: 44242 | C16: 52 | D16: yes | E16: yes | F16: good | G16: never | H16: =IF(G16 <> "---", LEN(G16) - LEN(SUBSTITUTE(G16, " ", "")) + 1, 0) -> 1
A17: 6b6af742-5ef9-46e6-95b5-a49aea120eb2 | B17: 44242 | C17: 15 | D17: yes | E17: no | F17: --- | G17: --- | H17: =IF(G17 <> "---", LEN(G17) - LEN(SUBSTITUTE(G17, " ", "")) + 1, 0) -> 0
A18: 6857dc53-c3ee-4cb3-b360-34c9284b34d0 | B18: 44242 | C18: 32 | D18: yes | E18: no | F18: --- | G18: --- | H18: =IF(G18 <> "---", LEN(G18) - LEN(SUBSTITUTE(G18, " ", "")) + 1, 0) -> 0
A19: 6cf454ae-fc00-4be5-880d-77a495e3968b | B19: 44242 | C19: 39 | D19: no | E19: --- | F19: --- | G19: --- | H19: =IF(G19 <> "---", LEN(G19) - LEN(SUBSTITUTE(G19, " ", "")) + 1, 0) -> 0
A20: d312c603-cd1d-4cc7-a84a-b75c3f963729 | B20: 44242 | C20: 30 | D20: yes | E20: no | F20: --- | G20: --- | H20: =IF(G20 <> "---", LEN(G20) - LEN(SUBSTITUTE(G20, " ", "")) + 1, 0) -> 0
A21: e8f00d0c-8250-49bc-a26b-9f2492b35634 | B21: 44242 | C21: 46 | D21: yes | E21: yes | F21: good | G21: sometimes | H21: =IF(G21 <> "---", LEN(G21) - LEN(SUBSTITUTE(G21, " ", "")) + 1, 0) -> 1
A22: 5057b8d0-6960-4b87-b369-a4e3fd20488e | B22: 44242 | C22: 20 | D22: no | E22: --- | F22: --- | G22: --- | H22: =IF(G22 <> "---", LEN(G22) - LEN(SUBSTITUTE(G22, " ", "")) + 1, 0) -> 0
A23: 395222f3-aa12-4f3c-b730-99a25926de1f | B23: 44242 | C23: 20 | D23: yes | E23: yes | F23: bad | G23: sometimes | H23: =IF(G23 <> "---", LEN(G23) - LEN(SUBSTITUTE(G23, " ", "")) + 1, 0) -> 1
A24: 323030e6-58c4-405f-8a5d-5b8ce878ec4e | B24: 44242 | C24: 18 | D24: yes | E24: no | F24: --- | G24: --- | H24: =IF(G24 <> "---", LEN(G24) - LEN(SUBSTITUTE(G24, " ", "")) + 1, 0) -> 0
... A99: 111db7d0-f63d-487c-8462-1a266bafa4fa | B99: 44229 | C99: 29 | D99: yes | E99: yes | F99: bad | G99: every_two_weeks | H99: =IF(G99 <> "---", LEN(G99) - LEN(SUBSTITUTE(G99, " ", "")) + 1, 0) -> 1
A100: d2c71c7a-060d-42df-adf0-16beb4f3e0c1 | B100: 44229 | C100: --- | D100: --- | E100: --- | F100: --- | G100: --- | H100: =IF(G100 <> "---", LEN(G100) - LEN(SUBSTITUTE(G100, " ", "")) + 1, 0) -> 0
A101: 378e4e65-9595-4196-8409-c140c1e41261 | B101: 44229 | C101: 39 | D101: no | E101: --- | F101: --- | G101: --- | H101: =IF(G101 <> "---", LEN(G101) - LEN(SUBSTITUTE(G101, " ", "")) + 1, 0) -> 0
A102: 43a7bfc4-ed23-4608-b97d-22d560ea0949 | B102: 44229 | C102: --- | D102: --- | E102: --- | F102: --- | G102: --- | H102: =IF(G102 <> "---", LEN(G102) - LEN(SUBSTITUTE(G102, " ", "")) + 1, 0) -> 0
A103: 78c3a402-8ba4-41d9-b4a9-a7bf99627bfb | B103: 44229 | C103: 28 | D103: no | E103: --- | F103: --- | G103: --- | H103: =IF(G103 <> "---", LEN(G103) - LEN(SUBSTITUTE(G103, " ", "")) + 1, 0) -> 0
A104: 5576b76a-7422-47e6-b43e-0c3e119e3f4e | B104: 44229 | C104: 41 | D104: yes | E104: yes | F104: bad | G104: sometimes | H104: =IF(G104 <> "---", LEN(G104) - LEN(SUBSTITUTE(G104, " ", "")) + 1, 0) -> 1
A105: 4c912c03-fd80-49c6-949b-078eed17ff58 | B105: 44229 | C105: 39 | D105: yes | E105: no | F105: --- | G105: --- | H105: =IF(G105 <> "---", LEN(G105) - LEN(SUBSTITUTE(G105, " ", "")) + 1, 0) -> 0
A106: 0305b1b4-81c7-4a73-81ee-1f7b9ab76839 | B106: 44229 | C106: 38 | D106: yes | E106: yes | F106: bad | G106: every_week child_sick | H106: =IF(G106 <> "---", LEN(G106) - LEN(SUBSTITUTE(G106, " ", "")) + 1, 0) -> 2
A107: 80b1510c-c052-43b5-bf65-e9cc52c25e49 | B107: 44229 | C107: 51 | D107: yes | E107: yes | F107: good | G107: every_week child_sick | H107: =IF(G107 <> "---", LEN(G107) - LEN(SUBSTITUTE(G107, " ", "")) + 1, 0) -> 2
A108: 1d9932f6-a48d-49eb-8fad-8cbd9d52696d | B108: 44229 | C108: 21 | D108: yes | E108: yes | F108: good | G108: every_week | H108: =IF(G108 <> "---", LEN(G108) - LEN(SUBSTITUTE(G108, " ", "")) + 1, 0) -> 1
A109: ea0b5c13-0149-4aa1-a868-d691025f8078 | B109: 44229 | C109: --- | D109: --- | E109: --- | F109: --- | G109: --- | H109: =IF(G109 <> "---", LEN(G109) - LEN(SUBSTITUTE(G109, " ", "")) + 1, 0) -> 0
A110: 44f36440-3f9c-4226-ab4a-088bd629e7ad | B110: 44229 | C110: 56 | D110: no | E110: --- | F110: --- | G110: --- | H110: =IF(G110 <> "---", LEN(G110) - LEN(SUBSTITUTE(G110, " ", "")) + 1, 0) -> 0
A111: b95dcda5-53a4-4c7f-bb08-23eb33d17666 | B111: 44229 | C111: 45 | D111: yes | E111: no | F111: --- | G111: --- | H111: =IF(G111 <> "---", LEN(G111) - LEN(SUBSTITUTE(G111, " ", "")) + 1, 0) -> 0
A112: 234e8400-7543-4b40-a874-497b2589a1bf | B112: 44230 | C112: 80 | D112: no | E112: --- | F112: --- | G112: --- | H112: =IF(G112 <> "---", LEN(G112) - LEN(SUBSTITUTE(G112, " ", "")) + 1, 0) -> 0
A113: a0151e21-e2dd-4932-b905-3532c16d5ef7 | B113: 44230 | C113: 32 | D113: no | E113: --- | F113: --- | G113: --- | H113: =IF(G113 <> "---", LEN(G113) - LEN(SUBSTITUTE(G113, " ", "")) + 1, 0) -> 0
A114: c4cddc6d-0c1d-4d18-bd55-320971cfae4b | B114: 44230 | C114: 20 | D114: yes | E114: no | F114: --- | G114: --- | H114: =IF(G114 <> "---", LEN(G114) - LEN(SUBSTITUTE(G114, " ", "")) + 1, 0) -> 0
A115: 0bd3be5c-27d1-44cd-aed6-a61061ff058e | B115: 44230 | C115: 25 | D115: yes | E115: no | F115: --- | G115: --- | H115: =IF(G115 <> "---", LEN(G115) - LEN(SUBSTITUTE(G115, " ", "")) + 1, 0) -> 0
A116: aac74266-990c-4c32-94f5-fee48918d5e3 | B116: 44230 | C116: 23 | D116: yes | E116: no | F116: --- | G116: --- | H116: =IF(G116 <> "---", LEN(G116) - LEN(SUBSTITUTE(G116, " ", "")) + 1, 0) -> 0
A117: be6f06b4-ad83-4882-b43a-72b1ddfeaca5 | B117: 44230 | C117: 28 | D117: yes | E117: yes | F117: good | G117: sometimes | H117: =IF(G117 <> "---", LEN(G117) - LEN(SUBSTITUTE(G117, " ", "")) + 1, 0) -> 1
A118: 044bd454-c4d5-455e-8c67-aa4094ccf329 | B118: 44230 | C118: 23 | D118: yes | E118: no | F118: --- | G118: --- | H118: =IF(G118 <> "---", LEN(G118) - LEN(SUBSTITUTE(G118, " ", "")) + 1, 0) -> 0
A119: 56a95157-1a98-40d6-8911-b840b31c2723 | B119: 44230 | C119: 30 | D119: yes | E119: yes | F119: good | G119: once_a_month | H119: =IF(G119 <> "---", LEN(G119) - LEN(SUBSTITUTE(G119, " ", "")) + 1, 0) -> 1
A120: 8c703e36-a285-4973-af6a-2f8dfe75b042 | B120: 44230 | C120: 37 | D120: no | E120: --- | F120: --- | G120: --- | H120: =IF(G120 <> "---", LEN(G120) - LEN(SUBSTITUTE(G120, " ", "")) + 1, 0) -> 0
A121: fec09ebe-6656-4f08-9a99-916af96364a7 | B121: 44230 | C121: 35 | D121: yes | E121: yes | F121: good | G121: sometimes | H121: =IF(G121 <> "---", LEN(G121) - LEN(SUBSTITUTE(G121, " ", "")) + 1, 0) -> 1
... A195: cab02025-5247-41e4-be6a-49427c93fc04 | B195: 44236 | C195: 30 | D195: yes | E195: no | F195: --- | G195: --- | H195: =IF(G195 <> "---", LEN(G195) - LEN(SUBSTITUTE(G195, " ", "")) + 1, 0) -> 0
A196: ab3d8773-3285-463c-9e78-8d2a78d0beb1 | B196: 44236 | C196: --- | D196: --- | E196: --- | F196: --- | G196: --- | H196: =IF(G196 <> "---", LEN(G196) - LEN(SUBSTITUTE(G196, " ", "")) + 1, 0) -> 0
A197: 47ba419d-2eff-4d99-ba22-c1d89e03adbf | B197: 44236 | C197: 35 | D197: yes | E197: yes | F197: good | G197: sometimes | H197: =IF(G197 <> "---", LEN(G197) - LEN(SUBSTITUTE(G197, " ", "")) + 1, 0) -> 1
A198: e693b73c-1ae5-4253-8634-471ecfc2e315 | B198: 44236 | C198: 25 | D198: yes | E198: yes | F198: good | G198: never | H198: =IF(G198 <> "---", LEN(G198) - LEN(SUBSTITUTE(G198, " ", "")) + 1, 0) -> 1
A199: 71a1162f-9b57-48a0-a746-9a36cea12df8 | B199: 44236 | C199: 43 | D199: yes | E199: no | F199: --- | G199: --- | H199: =IF(G199 <> "---", LEN(G199) - LEN(SUBSTITUTE(G199, " ", "")) + 1, 0) -> 0
A200: 7bc5de55-08eb-4c3b-a596-675c0aae889f | B200: 44236 | C200: 21 | D200: yes | E200: yes | F200: good | G200: never | H200: =IF(G200 <> "---", LEN(G200) - LEN(SUBSTITUTE(G200, " ", "")) + 1, 0) -> 1
A201: 184fc9d9-0087-4ed1-9eb9-ed3a5ccfeabe | B201: 44236 | C201: 45 | D201: no | E201: --- | F201: --- | G201: --- | H201: =IF(G201 <> "---", LEN(G201) - LEN(SUBSTITUTE(G201, " ", "")) + 1, 0) -> 0
A202: 5a8133ab-49d7-4334-873b-14799c3fe905 | B202: 44236 | C202: 19 | D202: yes | E202: yes | F202: good | G202: never | H202: =IF(G202 <> "---", LEN(G202) - LEN(SUBSTITUTE(G202, " ", "")) + 1, 0) -> 1
A203: 3aa4a6f3-c10e-42c6-8d5c-ebb97fd4e7b1 | B203: 44236 | C203: --- | D203: --- | E203: --- | F203: --- | G203: --- | H203: =IF(G203 <> "---", LEN(G203) - LEN(SUBSTITUTE(G203, " ", "")) + 1, 0) -> 0
A204: 662d1dc9-b7e6-4887-a1ee-603a81ebf35d | B204: 44236 | C204: 26 | D204: yes | E204: yes | F204: good | G204: never | H204: =IF(G204 <> "---", LEN(G204) - LEN(SUBSTITUTE(G204, " ", "")) + 1, 0) -> 1
A205: 61891f88-66f0-42d6-8b0b-39d04dd1cd17 | B205: 44236 | C205: 28 | D205: yes | E205: yes | F205: good | G205: once_a_month sometimes | H205: =IF(G205 <> "---", LEN(G205) - LEN(SUBSTITUTE(G205, " ", "")) + 1, 0) -> 2
A206: 58faad80-ccaa-4a92-81ca-d2a27eaca760 | B206: 44236 | C206: 30 | D206: no | E206: --- | F206: --- | G206: --- | H206: =IF(G206 <> "---", LEN(G206) - LEN(SUBSTITUTE(G206, " ", "")) + 1, 0) -> 0
A207: 50055096-db33-4329-ba18-7a5bf257e453 | B207: 44236 | C207: 20 | D207: no | E207: --- | F207: --- | G207: --- | H207: =IF(G207 <> "---", LEN(G207) - LEN(SUBSTITUTE(G207, " ", "")) + 1, 0) -> 0
A208: 86d99bcd-16b5-4c62-a0c9-a6caf2906bd4 | B208: 44236 | C208: 75 | D208: no | E208: --- | F208: --- | G208: --- | H208: =IF(G208 <> "---", LEN(G208) - LEN(SUBSTITUTE(G208, " ", "")) + 1, 0) -> 0
A209: 58dabfc5-8941-491b-8989-d90faf4b11f9 | B209: 44236 | C209: 25 | D209: yes | E209: no | F209: --- | G209: --- | H209: =IF(G209 <> "---", LEN(G209) - LEN(SUBSTITUTE(G209, " ", "")) + 1, 0) -> 0
A210: 0bbb957f-630b-4117-9425-d8359faff6c4 | B210: 44236 | C210: 26 | D210: no | E210: --- | F210: --- | G210: --- | H210: =IF(G210 <> "---", LEN(G210) - LEN(SUBSTITUTE(G210, " ", "")) + 1, 0) -> 0
A211: 96b74215-6c24-4eab-8e45-dc0a5f798c1e | B211: 44236 | C211: 25 | D211: no | E211: --- | F211: --- | G211: --- | H211: =IF(G211 <> "---", LEN(G211) - LEN(SUBSTITUTE(G211, " ", "")) + 1, 0) -> 0
A212: b5a724c2-6cfe-40e5-8b6c-87e8749d9319 | B212: 44236 | C212: 19 | D212: yes | E212: no | F212: --- | G212: --- | H212: =IF(G212 <> "---", LEN(G212) - LEN(SUBSTITUTE(G212, " ", "")) + 1, 0) -> 0
A213: 53f9b90f-be47-4af4-9c11-7f4edc812807 | B213: 44236 | C213: 25 | D213: yes | E213: yes | F213: good | G213: never | H213: =IF(G213 <> "---", LEN(G213) - LEN(SUBSTITUTE(G213, " ", "")) + 1, 0) -> 1
A214: 27ca9d5e-be36-4c1a-9869-187b32c86ff5 | B214: 44236 | C214: 43 | D214: yes | E214: yes | F214: good | G214: every_week | H214: =IF(G214 <> "---", LEN(G214) - LEN(SUBSTITUTE(G214, " ", "")) + 1, 0) -> 1
A215: 202b119f-849e-4484-87de-8823fa4ddc79 | B215: 44236 | C215: 25 | D215: yes | E215: yes | F215: good | G215: once_a_month | H215: =IF(G215 <> "---", LEN(G215) - LEN(SUBSTITUTE(G215, " ", "")) + 1, 0) -> 1
... A222: 1b212070-0fbd-48d3-9ec1-1c68d4a5059d | B222: 44236 | C222: 18 | D222: no | E222: --- | F222: --- | G222: --- | H222: =IF(G222 <> "---", LEN(G222) - LEN(SUBSTITUTE(G222, " ", "")) + 1, 0) -> 0
A223: aad872e6-3531-4fd0-8c07-916ff6d36287 | B223: 44236 | C223: --- | D223: --- | E223: --- | F223: --- | G223: --- | H223: =IF(G223 <> "---", LEN(G223) - LEN(SUBSTITUTE(G223, " ", "")) + 1, 0) -> 0
A224: fdb374c6-24d1-40f1-9499-f25dfb0f1e74 | B224: 44236 | C224: 28 | D224: no | E224: --- | F224: --- | G224: --- | H224: =IF(G224 <> "---", LEN(G224) - LEN(SUBSTITUTE(G224, " ", "")) + 1, 0) -> 0
A225: 12d31732-7510-4e02-a686-91782d2bb21a | B225: 44236 | C225: 26 | D225: yes | E225: no | F225: --- | G225: --- | H225: =IF(G225 <> "---", LEN(G225) - LEN(SUBSTITUTE(G225, " ", "")) + 1, 0) -> 0
A226: 580d7ea2-af80-41e4-9b95-bceddd0ea95e | B226: 44236 | C226: 28 | D226: no | E226: --- | F226: --- | G226: --- | H226: =IF(G226 <> "---", LEN(G226) - LEN(SUBSTITUTE(G226, " ", "")) + 1, 0) -> 0
A227: c4a29c42-68b1-4869-94ee-edb62103e43d | B227: 44236 | C227: 18 | D227: no | E227: --- | F227: --- | G227: --- | H227: =IF(G227 <> "---", LEN(G227) - LEN(SUBSTITUTE(G227, " ", "")) + 1, 0) -> 0
A228: f12877ef-7757-459a-9a09-a128c6290a93 | B228: 44236 | C228: 21 | D228: yes | E228: yes | F228: good | G228: sometimes | H228: =IF(G228 <> "---", LEN(G228) - LEN(SUBSTITUTE(G228, " ", "")) + 1, 0) -> 1
A229: 672751b1-303b-48e4-ac98-585b6699dc96 | B229: 44236 | C229: 70 | D229: yes | E229: no | F229: --- | G229: --- | H229: =IF(G229 <> "---", LEN(G229) - LEN(SUBSTITUTE(G229, " ", "")) + 1, 0) -> 0
A230: 1a3b41f3-7348-4f79-8bc4-4138b1769547 | B230: 44236 | C230: 38 | D230: no | E230: --- | F230: --- | G230: --- | H230: =IF(G230 <> "---", LEN(G230) - LEN(SUBSTITUTE(G230, " ", "")) + 1, 0) -> 0
A231: aafb7788-bbc8-44fa-866c-6358e967c1ae | B231: 44236 | C231: 30 | D231: yes | E231: yes | F231: good | G231: sometimes | H231: =IF(G231 <> "---", LEN(G231) - LEN(SUBSTITUTE(G231, " ", "")) + 1, 0) -> 1
A232: 4096f073-64f0-4d30-8c11-a7707a11ba35 | B232: 44236 | C232: 25 | D232: yes | E232: yes | F232: good | G232: every_week | H232: =IF(G232 <> "---", LEN(G232) - LEN(SUBSTITUTE(G232, " ", "")) + 1, 0) -> 1
A233: b1102a92-47c7-4863-ba5f-de8033d11a14 | B233: 44236 | C233: 40 | D233: yes | E233: no | F233: --- | G233: --- | H233: =IF(G233 <> "---", LEN(G233) - LEN(SUBSTITUTE(G233, " ", "")) + 1, 0) -> 0
A234: 56cea0ca-44ef-4a54-abda-ad270868df00 | B234: 44236 | C234: 19 | D234: no | E234: --- | F234: --- | G234: --- | H234: =IF(G234 <> "---", LEN(G234) - LEN(SUBSTITUTE(G234, " ", "")) + 1, 0) -> 0
A235: 0d998410-18fd-429b-a8fb-4be1ecac08aa | B235: 44236 | C235: 27 | D235: no | E235: --- | F235: --- | G235: --- | H235: =IF(G235 <> "---", LEN(G235) - LEN(SUBSTITUTE(G235, " ", "")) + 1, 0) -> 0
... A335: 61a9d89e-0855-4624-95fc-50043a8f4abe | B335: 44235 | C335: 30 | D335: yes | E335: no | F335: --- | G335: --- | H335: =IF(G335 <> "---", LEN(G335) - LEN(SUBSTITUTE(G335, " ", "")) + 1, 0) -> 0
A336: 6e52adf3-084f-4a19-8734-14ffe39da941 | B336: 44235 | C336: --- | D336: --- | E336: --- | F336: --- | G336: --- | H336: =IF(G336 <> "---", LEN(G336) - LEN(SUBSTITUTE(G336, " ", "")) + 1, 0) -> 0
A337: c3b372c3-b07f-4cd2-8ba5-672b1bdecdcb | B337: 44235 | C337: 30 | D337: yes | E337: yes | F337: bad | G337: sometimes | H337: =IF(G337 <> "---", LEN(G337) - LEN(SUBSTITUTE(G337, " ", "")) + 1, 0) -> 1
A338: afb7b8c8-14e3-4c22-8514-26d8ebc6baa4 | B338: 44235 | C338: 32 | D338: no | E338: --- | F338: --- | G338: --- | H338: =IF(G338 <> "---", LEN(G338) - LEN(SUBSTITUTE(G338, " ", "")) + 1, 0) -> 0
A339: a52ec8f7-e115-4bc3-83fb-36a2515a07f1 | B339: 44235 | C339: 26 | D339: yes | E339: yes | F339: good | G339: sometimes | H339: =IF(G339 <> "---", LEN(G339) - LEN(SUBSTITUTE(G339, " ", "")) + 1, 0) -> 1
A340: bb802b0c-700c-4399-aeff-f1734c09bdef | B340: 44235 | C340: 20 | D340: yes | E340: no | F340: --- | G340: --- | H340: =IF(G340 <> "---", LEN(G340) - LEN(SUBSTITUTE(G340, " ", "")) + 1, 0) -> 0
A341: dc788397-782a-4198-9ff2-6b2a5fc2c065 | B341: 44235 | C341: 26 | D341: no | E341: --- | F341: --- | G341: --- | H341: =IF(G341 <> "---", LEN(G341) - LEN(SUBSTITUTE(G341, " ", "")) + 1, 0) -> 0
A342: 24b02ee2-44d7-4c4e-8022-c6016c574d8d | B342: 44235 | C342: 28 | D342: yes | E342: no | F342: --- | G342: --- | H342: =IF(G342 <> "---", LEN(G342) - LEN(SUBSTITUTE(G342, " ", "")) + 1, 0) -> 0
A343: 60fb19ac-2ce0-4085-98d0-4dfa91bc3056 | B343: 44235 | C343: 19 | D343: no | E343: --- | F343: --- | G343: --- | H343: =IF(G343 <> "---", LEN(G343) - LEN(SUBSTITUTE(G343, " ", "")) + 1, 0) -> 0
A344: 58a7781f-9ade-49d4-8a3f-8adc97372d72 | B344: 44235 | C344: 32 | D344: no | E344: --- | F344: --- | G344: --- | H344: =IF(G344 <> "---", LEN(G344) - LEN(SUBSTITUTE(G344, " ", "")) + 1, 0) -> 0
A345: ed9a5498-ef88-426f-8d47-9773f62faa02 | B345: 44237 | C345: 20 | D345: yes | E345: no | F345: --- | G345: --- | H345: =IF(G345 <> "---", LEN(G345) - LEN(SUBSTITUTE(G345, " ", "")) + 1, 0) -> 0
A346: 430b1191-45ee-46c2-8666-15c082fff00b | B346: 44237 | C346: 43 | D346: no | E346: --- | F346: --- | G346: --- | H346: =IF(G346 <> "---", LEN(G346) - LEN(SUBSTITUTE(G346, " ", "")) + 1, 0) -> 0
A347: 2d664320-3326-490e-a902-83348250f945 | B347: 44237 | C347: 30 | D347: yes | E347: no | F347: --- | G347: --- | H347: =IF(G347 <> "---", LEN(G347) - LEN(SUBSTITUTE(G347, " ", "")) + 1, 0) -> 0
A348: cdbf3c5b-d629-4de4-89c5-3c8ec38d7fc8 | B348: 44237 | C348: 68 | D348: no | E348: --- | F348: --- | G348: --- | H348: =IF(G348 <> "---", LEN(G348) - LEN(SUBSTITUTE(G348, " ", "")) + 1, 0) -> 0
... A374: 918900db-82f4-4819-b310-e1cc7cc9a17b | B374: 44237 | C374: 23 | D374: yes | E374: yes | F374: good | G374: never | H374: =IF(G374 <> "---", LEN(G374) - LEN(SUBSTITUTE(G374, " ", "")) + 1, 0) -> 1
A375: eca86e0b-2d55-4821-a425-7ad6a350c574 | B375: 44237 | C375: --- | D375: --- | E375: --- | F375: --- | G375: --- | H375: =IF(G375 <> "---", LEN(G375) - LEN(SUBSTITUTE(G375, " ", "")) + 1, 0) -> 0
A376: ce596419-54db-4607-a12a-2d176b9d0bc1 | B376: 44237 | C376: 27 | D376: yes | E376: yes | F376: good | G376: once_a_month | H376: =IF(G376 <> "---", LEN(G376) - LEN(SUBSTITUTE(G376, " ", "")) + 1, 0) -> 1
A377: 5d045e85-e66f-4a04-87d9-8ef9e17849ec | B377: 44237 | C377: 26 | D377: yes | E377: yes | F377: good | G377: child_sick sometimes | H377: =IF(G377 <> "---", LEN(G377) - LEN(SUBSTITUTE(G377, " ", "")) + 1, 0) -> 2
...

Sheet 3. Distribution Age Groups

Sheet 4. Distribution Age Groups Per 

Sheet 6. Children + Mothers

Sheet 7. % Correct Oedemas

Sheet 8. Correct Oedema per Surveyor

Sheet 9. % Correct MUAC

Sheet 10-16. MUAC Analysis

Sheet 17. Survey Progress

Sheet 21. MUAC Use Frequency
A1: Modality | B1: Fequency
A2: never
A3: sometimes
A4: every_week
A5: every_two_weeks
A6: once_a_month
A7: child_sick

Sheet 22. Correlations

Sheet Parent Cases
A1: number | B1: number__0 | C1: number__1 | D1: parent_case_id | E1: parent_case_type | F1: relationship_type | G1: state
A2: 0.0 | B2: 0 | C2: 0 | D2: d30260ee-4407-40c1-8955-fff14582a200 | E2: mere-enfant | F2: child | G2: ---
A3: 1.0 | B3: 1 | C3: 0 | D3: 44f182ab-723b-468f-8da8-a581dbc2863f | E3: mere-enfant | F3: child | G3: ---
A4: 2.0 | B4: 2 | C4: 0 | D4: b57c8df2-0419-4c87-8e24-4df30607fcdf | E4: mere-enfant | F4: child | G4: ---
A5: 3.0 | B5: 3 | C5: 0 | D5: 5b3eb58d-fad6-414a-b17e-d5b4d8b6dd4f | E5: mere-enfant | F5: child | G5: ---
A6: 4.0 | B6: 4 | C6: 0 | D6: 5b3eb58d-fad6-414a-b17e-d5b4d8b6dd4f | E6: mere-enfant | F6: child | G6: ---
A7: 5.0 | B7: 5 | C7: 0 | D7: ed0e1357-ed0a-472c-b86b-75cba9a6ee02 | E7: mere-enfant | F7: child | G7: ---
A8: 6.0 | B8: 6 | C8: 0 | D8: ed0e1357-ed0a-472c-b86b-75cba9a6ee02 | E8: mere-enfant | F8: child | G8: ---
A9: 7.0 | B9: 7 | C9: 0 | D9: ed0e1357-ed0a-472c-b86b-75cba9a6ee02 | E9: mere-enfant | F9: child | G9: ---
A10: 8.0 | B10: 8 | C10: 0 | D10: ed0e1357-ed0a-472c-b86b-75cba9a6ee02 | E10: mere-enfant | F10: child | G10: ---
A11: 9.0 | B11: 9 | C11: 0 | D11: ed0e1357-ed0a-472c-b86b-75cba9a6ee02 | E11: mere-enfant | F11: child | G11: ---
A12: 10.0 | B12: 10 | C12: 0 | D12: da46012b-3505-46d4-b495-0ea0753c1448 | E12: mere-enfant | F12: child | G12: ---
A13: 11.0 | B13: 11 | C13: 0 | D13: 5b3eb58d-fad6-414a-b17e-d5b4d8b6dd4f | E13: mere-enfant | F13: child | G13: ---
... A180: 178.0 | B180: 178 | C180: 0 | D180: a34b7f57-1a47-4022-9fe8-441ea47e27c6 | E180: mere-enfant | F180: child | G180: ---
